BEGIN:VCALENDAR
VERSION:2.0
PRODID:-//ChamberMaster//Event Calendar 2.0//EN
METHOD:PUBLISH
X-PUBLISHED-TTL:P3D
REFRESH-INTERVAL:P3D
CALSCALE:GREGORIAN
BEGIN:VEVENT
DTSTART:20250405T210000Z
DTEND:20250405T230000Z
X-MICROSOFT-CDO-ALLDAYEVENT:FALSE
SUMMARY:Evergreen Chamber Orchestra - Spring Concert
DESCRIPTION:Immerse yourself in the radiant world of Mozart with the Evergreen Chamber Orchestra. This spring\, we present a program that celebrates the composer's unparalleled genius. Experience the playful Overture to The Marriage of Figaro\, the enchanting Piano Concerto No. 21 with Steinway Artist Stephanie Shih-yu Cheng\, and the awe-inspiring Jupiter Symphony.
X-ALT-DESC;FMTTYPE=text/html:Immerse yourself in the radiant world of Mozart with the Evergreen Chamber Orchestra. This spring\, we present a program that celebrates the composer&#39\;s unparalleled genius. Experience the playful Overture to The Marriage of Figaro\, the enchanting Piano Concerto No. 21 with Steinway Artist Stephanie Shih-yu Cheng\, and the awe-inspiring Jupiter Symphony.
LOCATION:Rockland Community Church 17 S Mt Vernon Country Club Rd Golden\, CO 80401
UID:e.298.95683
SEQUENCE:3
DTSTAMP:20260420T101628Z
URL:https://members.evergreenchamber.org/events/details/evergreen-chamber-orchestra-spring-concert-04-05-2025-95683
END:VEVENT

END:VCALENDAR
