BEGIN:VCALENDAR
VERSION:2.0
PRODID:-//ChamberMaster//Event Calendar 2.0//EN
METHOD:PUBLISH
X-PUBLISHED-TTL:P3D
REFRESH-INTERVAL:P3D
CALSCALE:GREGORIAN
BEGIN:VEVENT
DTSTART:20220902T000000Z
DTEND:20220902T020000Z
X-MICROSOFT-CDO-ALLDAYEVENT:FALSE
SUMMARY:Evergreen Chamber Orchestra - Season Preview at Cactus Jack's
DESCRIPTION:ECO returns to Cactus Jack's Saloon and Grill for our 2022   2023 Season Preview Concert!\n\nA community favorite for years\, this concert is a great opportunity to enjoy an ECO performance in an informal\, beautiful setting right in the heart of downtown Evergreen.\n\nGet a taste for some of the amazing music ECO will be performing in the upcoming season   including Beethoven's Symphony No. 6 "Pastorale" and Haydn's Symphony No. 101 "The Clock"   in addition to fun favorites like selections from The Sound of Music\, Moon River and The Pink Panther Theme by Henry Mancini\, and Stars and Stripes Forever.\n\nTicket price includes a wonderful dinner generously donated by Cactus Jack's Saloon & Grill.\n\nThis event has always sold out well in advance\, so get your tickets today!
X-ALT-DESC;FMTTYPE=text/html:<p>ECO returns to Cactus Jack&rsquo\;s Saloon and Grill for our&nbsp\;<strong>2022 &ndash\; 2023 Season Preview Concert</strong>!</p>\n\n<p>A community favorite for years\, this concert is a great opportunity to enjoy an ECO performance in an&nbsp\;<strong>informal\, beautiful setting right in the heart of downtown Evergreen</strong>.</p>\n\n<p>Get a taste for some of the amazing music ECO will be performing in the upcoming season &ndash\; including&nbsp\;<strong>Beethoven&rsquo\;s Symphony No. 6 &ldquo\;Pastorale&rdquo\;</strong>&nbsp\;and&nbsp\;<strong>Haydn&rsquo\;s Symphony No. 101 &ldquo\;The Clock&rdquo\;</strong>&nbsp\;&ndash\; in addition to fun favorites like selections from&nbsp\;<strong>The Sound of Music\, Moon River and The Pink Panther Theme by Henry Mancini\, and Stars and Stripes Forever</strong>.</p>\n\n<p>Ticket price includes a wonderful dinner&nbsp\;generously donated by&nbsp\;Cactus Jack&rsquo\;s Saloon &amp\; Grill.</p>\n\n<p>This event has always sold out well in advance\,&nbsp\;<strong>so get your tickets today</strong>!</p>\n
LOCATION:Cactus Jack's Saloon and Grill 4651 County Hwy 73 Evergreen\, CO 80439
UID:e.298.87851
SEQUENCE:3
DTSTAMP:20260424T054329Z
URL:https://members.evergreenchamber.org/events/details/evergreen-chamber-orchestra-season-preview-at-cactus-jack-s-87851
END:VEVENT

END:VCALENDAR
