BEGIN:VCALENDAR
VERSION:2.0
PRODID:-//ChamberMaster//Event Calendar 2.0//EN
METHOD:PUBLISH
X-PUBLISHED-TTL:P3D
REFRESH-INTERVAL:P3D
CALSCALE:GREGORIAN
BEGIN:VEVENT
DTSTART:20221009T210000Z
DTEND:20221009T230000Z
X-MICROSOFT-CDO-ALLDAYEVENT:FALSE
SUMMARY:Evergreen Chamber Orchestra - Season Opener (Evergreen)
DESCRIPTION:ECO is delighted to kick off our 41st Season with two incredible symphonies! The program begins with one of ECO Music Director William Hill's newest compositions   his Symphony No. 4. Bill's Fourth Symphony is composed in the "classical" style featuring four movements.\n\nThe second half of the program consists of a classical masterpiece   Franz Joseph Haydn's Symphony No. 101 in D Major\, H. 1/101   known by its colloquial name "The Clock" for the ticking rhythm throughout the second movement. This work is part of a group of the twelve London Symphonies that Haydn composed during his two visits to London. The 101st Symphony was composed during his second visit\, between 1793   1794\, and this group contains some of his most well-known works.
X-ALT-DESC;FMTTYPE=text/html:<p>ECO is delighted to kick off our 41st Season with two incredible symphonies! The program begins with one of&nbsp\;<strong>ECO Music Director William Hill&rsquo\;s newest compositions</strong>&nbsp\;&ndash\; his&nbsp\;<strong>Symphony No. 4</strong>. Bill&rsquo\;s Fourth Symphony is composed in the &ldquo\;classical&rdquo\; style featuring four movements.</p>\n\n<p>The second half of the program consists of a classical masterpiece &ndash\;&nbsp\;<strong>Franz Joseph Haydn&rsquo\;s Symphony No. 101 in D Major\, H. 1/101</strong>&nbsp\;&ndash\; known by its colloquial name &ldquo\;<strong>The Clock</strong>&rdquo\; for the ticking rhythm throughout the second movement. This work is part of a group of the twelve London Symphonies that Haydn composed during his two visits to London. The 101st Symphony was composed during his second visit\, between 1793 &ndash\; 1794\, and this group contains some of his most well-known works.</p>\n
LOCATION:Evergreen Lutheran Church 5980 County Hwy 73 Evergreen\, CO 80439
UID:e.298.87854
SEQUENCE:3
DTSTAMP:20260424T040835Z
URL:https://members.evergreenchamber.org/events/details/evergreen-chamber-orchestra-season-opener-evergreen-10-09-2022-87854
END:VEVENT

END:VCALENDAR
