BEGIN:VCALENDAR
VERSION:2.0
PRODID:-//ChamberMaster//Event Calendar 2.0//EN
METHOD:PUBLISH
X-PUBLISHED-TTL:P3D
REFRESH-INTERVAL:P3D
CALSCALE:GREGORIAN
BEGIN:VEVENT
DTSTART:20251011T220000Z
DTEND:20251012T000000Z
X-MICROSOFT-CDO-ALLDAYEVENT:FALSE
SUMMARY:Evergreen Chamber Orchestra - Season Opener Concert
DESCRIPTION:Embark on an enchanting musical journey with the Evergreen Chamber Orchestra. ECO's 44th season begins with selections from Edvard Grieg's iconic Peer Gynt Suite No. 1\, transporting listeners to a world of trolls and majestic sunrises. Next\, the spotlight shines on soloist Catherine Peterson\, Assistant Principal Flute for the Colorado Symphony\, performing Jacques Ibert's virtuosic Concerto for Flute and Orchestra\, a masterpiece of sparkling wit and lyrical beauty. The program culminates with Felix Mendelssohn's powerful Symphony No. 5 "Reformation" a profound work that celebrates the resilience of faith and concludes with a triumphant finale based on Martin Luther's hymn "A Mighty Fortress Is Our God."
X-ALT-DESC;FMTTYPE=text/html:Embark on an enchanting musical journey with the Evergreen Chamber Orchestra. ECO&rsquo\;s 44th season begins with selections from Edvard Grieg&rsquo\;s iconic Peer Gynt Suite No. 1\, transporting listeners to a world of trolls and majestic sunrises. Next\, the spotlight shines on soloist Catherine Peterson\, Assistant Principal Flute for the Colorado Symphony\, performing Jacques Ibert&#39\;s virtuosic Concerto for Flute and Orchestra\, a masterpiece of sparkling wit and lyrical beauty. The program culminates with Felix Mendelssohn&#39\;s powerful Symphony No. 5 &quot\;Reformation&quot\; a profound work that celebrates the resilience of faith and concludes with a triumphant finale based on Martin Luther&#39\;s hymn &quot\;A Mighty Fortress Is Our God.&quot\;
LOCATION:Rockland Community Church 17 S Mt Vernon Country Club Rd\, Golden\, CO 80401
UID:e.298.102367
SEQUENCE:3
DTSTAMP:20260420T002727Z
URL:https://members.evergreenchamber.org/events/details/evergreen-chamber-orchestra-season-opener-concert-10-11-2025-102367
END:VEVENT

END:VCALENDAR
