BEGIN:VCALENDAR
VERSION:2.0
PRODID:-//ChamberMaster//Event Calendar 2.0//EN
METHOD:PUBLISH
X-PUBLISHED-TTL:P3D
REFRESH-INTERVAL:P3D
CALSCALE:GREGORIAN
BEGIN:VEVENT
DTSTART:20211009T210000Z
DTEND:20211009T223000Z
X-MICROSOFT-CDO-ALLDAYEVENT:FALSE
SUMMARY:Evergreen Chamber Orchestra - Season Opener (Arvada)
DESCRIPTION:Our MASTERWORKS CONCERT SERIES returns for our 40th season with a truly spectacular Season Opener. The program opens with a brand-new composition from our illustrious Music Director\, William "Bill" Hill. Bill has composed this piece\, entitled From Silence and Isolation for Orchestra\, Soprano\, and Tenor\, to commemorate the profound emotional impact of the COVID-19 era.\n\nThe program continues with an extremely special guest soloist   Colorado Symphony Concertmaster\, violinist Yumi Hwang-Williams   performing Joseph Bologne's Violin Concerto\, Op. 3\, No. 1. We are overjoyed that we get to perform this wonderful work with such an eminent concert artist.\n\nOur Season Opener closes with Ludwig van Beethoven's Symphony No. 2\, Op. 36 in D Major. An excellent way to start the season\, indeed!
X-ALT-DESC;FMTTYPE=text/html:<p>Our&nbsp\;<a href="https://evergreenchamberorch.org/current-season/masterworks-concert-series/?mc_cid=ed086cac58&amp\;mc_eid=UNIQID" rel="noopener" style="border: 0px\; outline: 0px\; vertical-align: baseline\; background: transparent\; margin: 0px\; padding: 0px\; color: rgb(27\, 84\, 116)\; text-decoration-line: none\;" target="_blank"><strong>MASTERWORKS CONCERT SERIES</strong></a>&nbsp\;returns for our 40th season with a truly spectacular Season Opener. The program opens with a brand-new composition from our illustrious Music Director\,&nbsp\;<strong>William &ldquo\;Bill&rdquo\; Hill</strong>. Bill has composed this piece\, entitled&nbsp\;<em><strong>From Silence and Isolation</strong></em><strong>&nbsp\;for Orchestra\, Soprano\, and Tenor</strong>\, to commemorate the profound emotional impact of the COVID-19 era.</p>\n\n<p>The program continues with an extremely special guest soloist &ndash\;&nbsp\;<strong>Colorado Symphony Concertmaster</strong>\, violinist&nbsp\;<strong>Yumi Hwang-Williams</strong>&nbsp\;&ndash\; performing&nbsp\;<strong>Joseph Bologne&rsquo\;s Violin Concerto\, Op. 3\, No. 1</strong>. We are overjoyed that we get to perform this wonderful work with such an eminent concert artist.</p>\n\n<p>Our Season Opener closes with Ludwig van Beethoven&rsquo\;s Symphony No. 2\, Op. 36 in D Major. An excellent way to start the season\, indeed!</p>\n
LOCATION:Arvada United Methodist Church 6750 Carr St Arvada\, CO 80004
UID:e.298.85882
SEQUENCE:3
DTSTAMP:20260420T125814Z
URL:https://members.evergreenchamber.org/events/details/evergreen-chamber-orchestra-season-opener-arvada-85882
END:VEVENT

END:VCALENDAR
