BEGIN:VCALENDAR
VERSION:2.0
PRODID:-//ChamberMaster//Event Calendar 2.0//EN
METHOD:PUBLISH
X-PUBLISHED-TTL:P3D
REFRESH-INTERVAL:P3D
CALSCALE:GREGORIAN
BEGIN:VEVENT
DTSTART:20251122T220000Z
DTEND:20251123T000000Z
X-MICROSOFT-CDO-ALLDAYEVENT:FALSE
SUMMARY:Evergreen Chamber Orchestra - Fall Concert
DESCRIPTION:Join us for a program of thought-provoking music that spans the human experience from heartfelt introspection to unbridled joy. The concert begins with the achingly beautiful Adagietto from Gustav Mahler's Symphony No. 5\, a lyrical and intimate movement that is often considered a wordless love letter. Next\, longtime ECO pianist Peggy Lyon returns to perform J.S. Bach's Keyboard Concerto No. 3\, BWV 1054 in D Major. Modeled after the famous E-Major Violin Concerto BWV 1042 but transposed to D Major to reach the highest key on the harpsichords of the day\, Bach's third keyboard concerto uses da capo ABA form in the first movement - a rare occurrence in Bach's oeuvre. The program concludes with Johannes Brahms' magnificent Symphony No. 2\, a work of rich orchestration that moves from pastoral serenity to a triumphant and exhilarating finale.
X-ALT-DESC;FMTTYPE=text/html:Join us for a program of thought-provoking music that spans the human experience from heartfelt introspection to unbridled joy. The concert begins with the achingly beautiful Adagietto from Gustav Mahler&rsquo\;s Symphony No. 5\, a lyrical and intimate movement that is often considered a wordless love letter. Next\, longtime ECO pianist Peggy Lyon returns to perform J.S. Bach&rsquo\;s Keyboard Concerto No. 3\, BWV 1054 in D Major. Modeled after the famous E-Major Violin Concerto BWV 1042 but transposed to D Major to reach the highest key on the harpsichords of the day\, Bach&rsquo\;s third keyboard concerto uses da capo ABA form in the first movement - a rare occurrence in Bach&rsquo\;s oeuvre. The program concludes with Johannes Brahms&#39\; magnificent Symphony No. 2\, a work of rich orchestration that moves from pastoral serenity to a triumphant and exhilarating finale.
LOCATION:Rockland Community Church 17 S Mt Vernon Country Club Rd\, Golden\, CO 80401
UID:e.298.102369
SEQUENCE:3
DTSTAMP:20260419T230853Z
URL:https://members.evergreenchamber.org/events/details/evergreen-chamber-orchestra-fall-concert-11-22-2025-102369
END:VEVENT

END:VCALENDAR
