BEGIN:VCALENDAR
VERSION:2.0
PRODID:-//ChamberMaster//Event Calendar 2.0//EN
METHOD:PUBLISH
X-PUBLISHED-TTL:P3D
REFRESH-INTERVAL:P3D
CALSCALE:GREGORIAN
BEGIN:VEVENT
DTSTART:20251102T220000Z
DTEND:20251103T000000Z
X-MICROSOFT-CDO-ALLDAYEVENT:FALSE
SUMMARY:Evergreen Chamber Orchestra - Autumn Recital
DESCRIPTION:ECO's Chamber Recital Series offers a wonderfully intimate way to experience captivating music. These performances feature ECO musicians and their friends performing delightful repertoire for small chamber groups. Stay after the recital for a delicious reception provided by the members of St. Laurence!
X-ALT-DESC;FMTTYPE=text/html:ECO&rsquo\;s Chamber Recital Series offers a wonderfully intimate way to experience captivating music. These performances feature ECO musicians and their friends performing delightful repertoire for small chamber groups. Stay after the recital for a delicious reception provided by the members of St. Laurence!
LOCATION:St. Laurence Episcopal Church 26812 Barkley Rd\, Conifer\, CO 80433
UID:e.298.102368
SEQUENCE:3
DTSTAMP:20260419T231117Z
URL:https://members.evergreenchamber.org/events/details/evergreen-chamber-orchestra-autumn-recital-11-02-2025-102368
END:VEVENT

END:VCALENDAR
