BEGIN:VCALENDAR
VERSION:2.0
PRODID:-//ChamberMaster//Event Calendar 2.0//EN
METHOD:PUBLISH
X-PUBLISHED-TTL:P3D
REFRESH-INTERVAL:P3D
CALSCALE:GREGORIAN
BEGIN:VEVENT
DTSTART:20250606T230000Z
DTEND:20250607T023000Z
X-MICROSOFT-CDO-ALLDAYEVENT:FALSE
SUMMARY:Evergreen Audubon & Nature Center Bash & Benefit "Tails of the Wild"
DESCRIPTION:Join us for an evening of delicious appetizers\, libations\, great company\, and the opportunity to raise funds to support Evergreen Audubon and Nature Center. The theme this year will be "Tails of the Wild"\, and there will be silent and live auctions\, paddle raises\, raffles\, and activities to entertain you\, including a "selfie" photo booth\, a guessing game\, bird trivia cards on the tables\, and a tail trivia test.\n\nThe Annual Bash & Benefit is a casual affair\, you don't need to wear fancy attire unless it's your style. But bring your best tales and wear your favorite tail! We want you to enjoy the evening with like-minded people who support us.
X-ALT-DESC;FMTTYPE=text/html:<p>Join us for an evening of delicious appetizers\, libations\, great company\, and the opportunity to raise funds to support Evergreen Audubon and Nature Center. The theme this year will be &ldquo\;Tails of the Wild&rdquo\;\, and there will be silent and live auctions\, paddle raises\, raffles\, and activities to entertain you\, including a &ldquo\;selfie&rdquo\; photo booth\, a guessing game\, bird trivia cards on the tables\, and a tail trivia test.</p>\n\n<p>The Annual Bash &amp\; Benefit is a casual affair\, you don&rsquo\;t need to wear fancy attire unless it&rsquo\;s your style. But bring your best tales and wear your favorite tail! We want you to enjoy the evening with like-minded people who support us.</p>\n
LOCATION:Elks Lodge\, Evergreen\, CO
UID:e.298.99662
SEQUENCE:3
DTSTAMP:20260420T073126Z
URL:https://members.evergreenchamber.org/events/details/evergreen-audubon-nature-center-bash-benefit-tails-of-the-wild-99662
END:VEVENT

END:VCALENDAR
