BEGIN:VCALENDAR
VERSION:2.0
PRODID:-//ChamberMaster//Event Calendar 2.0//EN
METHOD:PUBLISH
X-PUBLISHED-TTL:P3D
REFRESH-INTERVAL:P3D
CALSCALE:GREGORIAN
BEGIN:VEVENT
DTSTART:20240302T200000Z
DTEND:20240302T230000Z
X-MICROSOFT-CDO-ALLDAYEVENT:FALSE
SUMMARY:Evergreen Amazing Race- Original 21 and up
DESCRIPTION:Register for our Original Evergreen Amazing Race.  Teams of 4 will drive around Evergreen playing games and enjoying our local establishments.  Finish the challenge at one place and get the clue for the next.  21 and over for the race\, drinks will be offered at each challenge stop so 1 member must be a designated driver.
X-ALT-DESC;FMTTYPE=text/html:Register for our Original Evergreen Amazing Race.&nbsp\; Teams of 4 will drive around Evergreen playing games and enjoying our local establishments.&nbsp\; Finish the challenge at one place and get the clue for the next.&nbsp\; 21 and over for the race\, drinks will be offered at each challenge stop so 1 member must be a designated driver.&nbsp\;&nbsp\;
LOCATION:Start and Finish will take place at the Lake House. Check-in at 12:30 29612 Upper Bear Creek Road\, Evergreen Colorado 80439
UID:e.298.91461
SEQUENCE:3
DTSTAMP:20260423T030711Z
URL:https://members.evergreenchamber.org/events/details/evergreen-amazing-race-original-21-and-up-91461
END:VEVENT

END:VCALENDAR
