BEGIN:VCALENDAR
VERSION:2.0
PRODID:-//ChamberMaster//Event Calendar 2.0//EN
METHOD:PUBLISH
X-PUBLISHED-TTL:P3D
REFRESH-INTERVAL:P3D
CALSCALE:GREGORIAN
BEGIN:VEVENT
DTSTART:20210723T230000Z
DTEND:20210724T020000Z
X-MICROSOFT-CDO-ALLDAYEVENT:FALSE
SUMMARY:Eric Golden Live at The Wild Game Evergreen
DESCRIPTION:Eric Golden is a Denver native singer/guitarist with music in his blood. As the son of a musician Eric grew up around live music. With a performance influenced by the classic Bakersfield Honky Tonk Country Music scene\, throughout the night Eric will cover multiple decades of classic country music. In 2019 he was awarded the New Artist of the year by the Colorado Country Music Hall of Fame. https://ericgoldenmusic.com/
X-ALT-DESC;FMTTYPE=text/html:Eric Golden is a Denver native singer/guitarist with music in his blood. As the son of a musician Eric grew up around live music. With a performance influenced by the classic Bakersfield Honky Tonk Country Music scene\, throughout the night Eric will cover multiple decades of classic country music. In 2019 he was awarded the New Artist of the year by the Colorado Country Music Hall of Fame. https://ericgoldenmusic.com/
LOCATION:The Wild Game Evergreen 204 BERGEN PARKWAY EVERGREEN\, CO 80439
UID:e.298.84359
SEQUENCE:3
DTSTAMP:20260425T025946Z
URL:https://members.evergreenchamber.org/events/details/eric-golden-live-at-the-wild-game-evergreen-84359
END:VEVENT

END:VCALENDAR
