BEGIN:VCALENDAR
VERSION:2.0
PRODID:-//ChamberMaster//Event Calendar 2.0//EN
METHOD:PUBLISH
X-PUBLISHED-TTL:P3D
REFRESH-INTERVAL:P3D
CALSCALE:GREGORIAN
BEGIN:VEVENT
DTSTART:20221101T220000Z
DTEND:20221102T020000Z
X-MICROSOFT-CDO-ALLDAYEVENT:FALSE
SUMMARY:EPRD's Inspire program SERVES Troutdale Tavern
DESCRIPTION:Join EPRD's Inspire Program for a fun night of fundraising! They will act as the servers and bussers for the night.\n\n\n\nCall Troutdale Tavern for reservations - 303.975.6278
X-ALT-DESC;FMTTYPE=text/html:<span style="color: rgb(51\, 51\, 51)\; font-family: sans-serif\, Arial\, Verdana\, &quot\;Trebuchet MS&quot\;\; font-size: 13px\; background-color: rgb(255\, 255\, 255)\;">&nbsp\;Join EPRD&#39\;s Inspire Program for a fun night of fundraising! They will act as the servers and bussers for the night.</span><br />\n<br style="color: rgb(51\, 51\, 51)\; font-family: sans-serif\, Arial\, Verdana\, &quot\;Trebuchet MS&quot\;\; font-size: 13px\;" />\n<span style="color: rgb(51\, 51\, 51)\; font-family: sans-serif\, Arial\, Verdana\, &quot\;Trebuchet MS&quot\;\; font-size: 13px\; background-color: rgb(255\, 255\, 255)\;">Call Troutdale Tavern for reservations - 303.975.6278</span>
LOCATION:Troutdale Tavern 30790 Stagecoach Blvd\, Unit 101 Evergreen\, CO
UID:e.298.88328
SEQUENCE:3
DTSTAMP:20260424T023209Z
URL:https://members.evergreenchamber.org/events/details/eprd-s-inspire-program-serves-troutdale-tavern-88328
END:VEVENT

END:VCALENDAR
