BEGIN:VCALENDAR
VERSION:2.0
PRODID:-//ChamberMaster//Event Calendar 2.0//EN
METHOD:PUBLISH
X-PUBLISHED-TTL:P3D
REFRESH-INTERVAL:P3D
CALSCALE:GREGORIAN
BEGIN:VEVENT
DTSTART:20251230T200000Z
DTEND:20251230T220000Z
X-MICROSOFT-CDO-ALLDAYEVENT:FALSE
SUMMARY:EPRD Active Adults End of Year Party
DESCRIPTION:You are cordially invited to join EPRD and Active Adult Programs for the 2025 End of Year Party! Join us as we celebrate the memories we've made\, the laughs we've shared\, and the year we've enjoyed together in style! Featuring live music\, food\, dancing\, games\, and a few surprises along the way-because you're NEVER too old to party! This party will be hosted in the Bergen Peak Room on December 30th from 1:00-4:00PM\, and will be free for all Evergreen Community Members (55+)! Bring your friends and family to help celebrate 2025! Live Music and Sing-a-long will be provided for all attendees\, featuring your favorite tunes from yesteryear! We encourage everyone to come and sing your hearts out as we put 2025 in the history books! **Festive attire strongly encouraged for all!** For questions\, please contact Nick Braden at nbraden@eprdco.gov or call 720-822-4594. We hope to see you there!
X-ALT-DESC;FMTTYPE=text/html:You are cordially invited to join EPRD and Active Adult Programs for the 2025 End of Year Party! Join us as we celebrate the memories we&#39\;ve made\, the laughs we&#39\;ve shared\, and the year we&#39\;ve enjoyed together in style! Featuring live music\, food\, dancing\, games\, and a few surprises along the way-because you&#39\;re NEVER too old to party! This party will be hosted in the Bergen Peak Room on December 30th from 1:00-4:00PM\, and will be free for all Evergreen Community Members (55+)! Bring your friends and family to help celebrate 2025! Live Music and Sing-a-long will be provided for all attendees\, featuring your favorite tunes from yesteryear! We encourage everyone to come and sing your hearts out as we put 2025 in the history books! **Festive attire strongly encouraged for all!** For questions\, please contact Nick Braden at nbraden@eprdco.gov or call 720-822-4594. We hope to see you there!
LOCATION:Buchanan Park Recreation Center Bergen Peak Room
UID:e.298.105425
SEQUENCE:3
DTSTAMP:20260419T224756Z
URL:https://members.evergreenchamber.org/events/details/eprd-active-adults-end-of-year-party-105425
END:VEVENT

END:VCALENDAR
