BEGIN:VCALENDAR
VERSION:2.0
PRODID:-//ChamberMaster//Event Calendar 2.0//EN
METHOD:PUBLISH
X-PUBLISHED-TTL:P3D
REFRESH-INTERVAL:P3D
CALSCALE:GREGORIAN
BEGIN:VEVENT
DTSTART:20250419T000000Z
DTEND:20250419T030000Z
X-MICROSOFT-CDO-ALLDAYEVENT:FALSE
SUMMARY:EHS Mountain Bike Team 4th Annual Film Fest & Silent Auction
DESCRIPTION:Fun\, family friendly event that starts at 6 with casual food\, a silent auction\, games and a team store in the first hour. At 7\, we will gather in the EHS auditorium for a short film and trivia. This is a fun\, low key night designed to raise money for our team. We also help support a non-profit community biking project in the Navajo Nation (Gallup NM) called Silver Stallions https://silverstallion.org/. So\, this is a feel good event all the way around:)
X-ALT-DESC;FMTTYPE=text/html:Fun\, family friendly event that starts at 6 with casual food\, a silent auction\, games and a team store in the first hour. At 7\, we will gather in the EHS auditorium for a short film and trivia. This is a fun\, low key night designed to raise money for our team. We also help support a non-profit community biking project in the Navajo Nation (Gallup NM) called Silver Stallions https://silverstallion.org/. So\, this is a feel good event all the way around:)
LOCATION:Evergreen High School Auditorium 29300 Buffalo Park Road Evergreen
UID:e.298.99556
SEQUENCE:3
DTSTAMP:20260420T103059Z
URL:https://members.evergreenchamber.org/events/details/ehs-mountain-bike-team-4th-annual-film-fest-silent-auction-99556
END:VEVENT

END:VCALENDAR
