BEGIN:VCALENDAR
VERSION:2.0
PRODID:-//ChamberMaster//Event Calendar 2.0//EN
METHOD:PUBLISH
X-PUBLISHED-TTL:P3D
REFRESH-INTERVAL:P3D
CALSCALE:GREGORIAN
BEGIN:VEVENT
DTSTART:20250628T160000Z
DTEND:20250628T200000Z
X-MICROSOFT-CDO-ALLDAYEVENT:FALSE
SUMMARY:EChO 35 Years Strong - Powered by Community\, Driven by Compassion
DESCRIPTION:90s vibes   EChO ReSale deals   Food   Tours   Fun for all ages Let's celebrate 35 years of compassion\, community\, and impact together.
X-ALT-DESC;FMTTYPE=text/html:90s vibes &bull\; EChO ReSale deals &bull\; Food &bull\; Tours &bull\; Fun for all ages Let&rsquo\;s celebrate 35 years of compassion\, community\, and impact&mdash\;together.
LOCATION:EChO - 27888 Meadow Dr\, Evergreen\, CO 80439
UID:e.298.99682
SEQUENCE:3
DTSTAMP:20260420T063452Z
URL:https://members.evergreenchamber.org/events/details/echo-35-years-strong-powered-by-community-driven-by-compassion-99682
END:VEVENT

END:VCALENDAR
