BEGIN:VCALENDAR
VERSION:2.0
PRODID:-//ChamberMaster//Event Calendar 2.0//EN
METHOD:PUBLISH
X-PUBLISHED-TTL:P3D
REFRESH-INTERVAL:P3D
CALSCALE:GREGORIAN
BEGIN:VEVENT
DTSTART:20251127T160000Z
DTEND:20251127T180000Z
X-MICROSOFT-CDO-ALLDAYEVENT:FALSE
SUMMARY:EChO 15th Annual Turkey Trot
DESCRIPTION:5K Walk & Run Join us for a heartwarming morning of fun\, family\, and giving back. This 5K helps support EChO Food Pantry\, ensuring local families have access to food and essential resources during the holidays and beyond. You can even chose to virtually attend! ?? Pies will be awarded to the top male & female finishers in each age bracket:   5 12   13 20   21 30   31 40   41 50   51 60   61 70   71+ PLUS ????:   Best Human Costume = Pie!   Best Dog Costume = Pie! So lace up\, dress up\, and get ready to trot for pies Thanksgiving morning!
X-ALT-DESC;FMTTYPE=text/html:5K Walk &amp\; Run Join us for a heartwarming morning of fun\, family\, and giving back. This 5K helps support EChO Food Pantry\, ensuring local families have access to food and essential resources during the holidays and beyond. You can even chose to virtually attend! ?? Pies will be awarded to the top male &amp\; female finishers in each age bracket: &bull\; 5&ndash\;12 &bull\; 13&ndash\;20 &bull\; 21&ndash\;30 &bull\; 31&ndash\;40 &bull\; 41&ndash\;50 &bull\; 51&ndash\;60 &bull\; 61&ndash\;70 &bull\; 71+ PLUS ????: &bull\; Best Human Costume = Pie! &bull\; Best Dog Costume = Pie! So lace up\, dress up\, and get ready to trot for pies Thanksgiving morning!
LOCATION:EChO 27888 Meadow Dr\, Evergreen\, CO 80439
UID:e.298.103118
SEQUENCE:3
DTSTAMP:20260419T224615Z
URL:https://members.evergreenchamber.org/events/details/echo-15th-annual-turkey-trot-103118
END:VEVENT

END:VCALENDAR
