BEGIN:VCALENDAR
VERSION:2.0
PRODID:-//ChamberMaster//Event Calendar 2.0//EN
METHOD:PUBLISH
X-PUBLISHED-TTL:P3D
REFRESH-INTERVAL:P3D
CALSCALE:GREGORIAN
BEGIN:VEVENT
DTSTART:20250419T150000Z
DTEND:20250419T173000Z
X-MICROSOFT-CDO-ALLDAYEVENT:FALSE
SUMMARY:Easter Egg Hunt & Breakfast presented by Evergreen Elks Lodge
DESCRIPTION:The Evergreen Elks Lodge Presents\n\nThe 2025 Easter Egg Hunt and Breakfast
X-ALT-DESC;FMTTYPE=text/html:The Evergreen Elks Lodge Presents<br />\nThe 2025 Easter Egg Hunt and Breakfast
LOCATION:The Evergreen Elks Lodge 27972 Iris Dr Evergreen\, CO
UID:e.298.99527
SEQUENCE:3
DTSTAMP:20260420T100842Z
URL:https://members.evergreenchamber.org/events/details/easter-egg-hunt-breakfast-presented-by-evergreen-elks-lodge-99527
END:VEVENT

END:VCALENDAR
