BEGIN:VCALENDAR
VERSION:2.0
PRODID:-//ChamberMaster//Event Calendar 2.0//EN
METHOD:PUBLISH
X-PUBLISHED-TTL:P3D
REFRESH-INTERVAL:P3D
CALSCALE:GREGORIAN
BEGIN:VEVENT
DTSTART:20221030T160000Z
DTEND:20221030T180000Z
X-MICROSOFT-CDO-ALLDAYEVENT:FALSE
SUMMARY:EAPL’s 7th Annual 5K Zombie Run
DESCRIPTION:Get your spook on…run\, walk\, creep or crawl for a ghoulish good time. Benefiting the Evergreen Animal Protective League.\n\n* Scary Good Bake Sale\n* Spirited Music\n* Costume Contest for 2 & 4 legged participants
X-ALT-DESC;FMTTYPE=text/html:Get your spook on…run\, walk\, creep or crawl for a ghoulish good time. Benefiting the Evergreen Animal Protective League.\n\n* Scary Good Bake Sale\n* Spirited Music\n* Costume Contest for 2 & 4 legged participants\n
LOCATION:Buchanan Rec Center * Ball Parks
UID:e.298.88330
SEQUENCE:3
DTSTAMP:20260424T042708Z
URL:https://members.evergreenchamber.org/events/details/eapl-s-7th-annual-5k-zombie-run-88330
END:VEVENT

END:VCALENDAR
