BEGIN:VCALENDAR
VERSION:2.0
PRODID:-//ChamberMaster//Event Calendar 2.0//EN
METHOD:PUBLISH
X-PUBLISHED-TTL:P3D
REFRESH-INTERVAL:P3D
CALSCALE:GREGORIAN
BEGIN:VEVENT
DTSTART:20211031T160000Z
DTEND:20211031T180000Z
X-MICROSOFT-CDO-ALLDAYEVENT:FALSE
SUMMARY:EAPL's 5th Annual Zombie 5k
DESCRIPTION:Get your spook on  run\, walk\, creep or crawl for a ghoulish good time. Benefitting the Evergreen Animal Protective League.
X-ALT-DESC;FMTTYPE=text/html:Get your spook on&hellip\; run\, walk\, creep or crawl for a ghoulish good time. Benefitting the Evergreen Animal Protective League.
LOCATION:Chow Down Pet Supplies @ Bergen Village
UID:e.298.84789
SEQUENCE:3
DTSTAMP:20260420T125554Z
URL:https://members.evergreenchamber.org/events/details/eapl-s-5th-annual-zombie-5k-84789
END:VEVENT

END:VCALENDAR
