BEGIN:VCALENDAR
VERSION:2.0
PRODID:-//ChamberMaster//Event Calendar 2.0//EN
METHOD:PUBLISH
X-PUBLISHED-TTL:P3D
REFRESH-INTERVAL:P3D
CALSCALE:GREGORIAN
BEGIN:VEVENT
DTSTART;VALUE=DATE:20250307
DTEND;VALUE=DATE:20250308
TRANSP:TRANSPARENT
X-MICROSOFT-CDO-ALLDAYEVENT:TRUE
SUMMARY:Drum Circle
DESCRIPTION:Eudaimonia is hosting a powerful and connecting Drum Circle under the full moon's energy on Friday\, 3/7 at 6:15 PM! ??? Bring your own drum or play one of ours no experience required! This event is for everyone\, and we'll guide you through drumming\, meditation\, and contemporary kirtan/sing-alongs. Marco and Nolen have been building this circle for years\, and they love sharing it with the community. Bring your friends and family and experience the magic of rhythm and connection!
X-ALT-DESC;FMTTYPE=text/html:<span style="color:rgb(0\, 0\, 0)\; font-family:-apple-system\,blinkmacsystemfont\,segoe ui\,roboto\,helvetica\,arial\,sans-serif\; font-size:14px">Eudaimonia is hosting a powerful and connecting Drum Circle under the full moon&rsquo\;s energy on Friday\, 3/7 at 6:15 PM! ??? Bring your own drum or play one of ours&mdash\;no experience required! This event is for everyone\, and we&rsquo\;ll guide you through drumming\, meditation\, and contemporary kirtan/sing-alongs.&nbsp\;</span><strong><a href="https://www.instagram.com/marcodiferreira/">Marco</a></strong><span style="color:rgb(0\, 0\, 0)\; font-family:-apple-system\,blinkmacsystemfont\,segoe ui\,roboto\,helvetica\,arial\,sans-serif\; font-size:14px">&nbsp\;and&nbsp\;</span><strong><a href="https://www.instagram.com/yogi_noli/">Nolen</a></strong><span style="color:rgb(0\, 0\, 0)\; font-family:-apple-system\,blinkmacsystemfont\,segoe ui\,roboto\,helvetica\,arial\,sans-serif\; font-size:14px">&nbsp\;have been building this circle for years\, and they love sharing it with the community. Bring your friends and family and experience the magic of rhythm and connection!</span>
LOCATION:Eudaimonia HFC 4471 Parmalee Gulch Road Indian Hills\, CO 80454
UID:e.298.99424
SEQUENCE:3
DTSTAMP:20260422T104346Z
URL:https://members.evergreenchamber.org/events/details/drum-circle-99424
END:VEVENT

END:VCALENDAR
