BEGIN:VCALENDAR
VERSION:2.0
PRODID:-//ChamberMaster//Event Calendar 2.0//EN
METHOD:PUBLISH
X-PUBLISHED-TTL:P3D
REFRESH-INTERVAL:P3D
CALSCALE:GREGORIAN
BEGIN:VEVENT
DTSTART:20251113T003000Z
DTEND:20251113T013000Z
X-MICROSOFT-CDO-ALLDAYEVENT:FALSE
SUMMARY:Dru Yoga
DESCRIPTION:Dru Yoga was established in Snowdonia Wales 40 years ago. It's roots come from the ancient teachings and philosophies of Hatha yoga combined with the energy flow technique of Tai Chi. Joints are to be soft\, which allows energy to free flow into and out of the body. Dru has a focus upon maintaining a healthy spine\, through activational movements in the beginning of class and throughout a Dru session. A typical Dru Yoga class includes Energy Block Release Sequences\, classical Asanas (yoga postures) Pranayama (breath work)\, Mudras (gestures)\, positive affirmations\, and also empowering visualizations. Dru classes are tailored to the student and their individual level which makes it great for everyone!\n\nIN PERSON OR ONLINE:\n\n\n\nIn Person:\n\nTaspen's Yoga and Healing Center\n\n25797 Conifer Rd Ste C-130\, Conifer\, CO 80433\, USA\n\nREGISTER HERE: https://peaceworksinc.co/events\n\n\n\nTo Join Online\, please use the Zoom Link Below:\n\nhttps://us06web.zoom.us/j/3038388181?pwd=QVFOYkdYQ2pJQlJST1FJSHRtSXFLZz09&omn=97649440007\n\n\n\nMeeting ID 3038388181\n\nPasscode 993660
X-ALT-DESC;FMTTYPE=text/html:<p>Dru Yoga was established in Snowdonia Wales 40 years ago. It&rsquo\;s roots come from the ancient teachings and philosophies of Hatha yoga combined with the energy flow technique of Tai Chi. Joints are to be soft\, which allows energy to free flow into and out of the body. Dru has a focus upon maintaining a healthy spine\, through activational movements in the beginning of class and throughout a Dru session. A typical Dru Yoga class includes Energy Block Release Sequences\, classical Asanas (yoga postures) Pranayama (breath work)\, Mudras (gestures)\, positive affirmations\, and also empowering visualizations. Dru classes are tailored to the student and their individual level which makes it great for everyone!</p>\n\n<div><u><strong>IN PERSON OR ONLINE:</strong></u><br />\n<br />\n<a class="eapp-events-calendar-popup-location-link" href="https://taspenshealingcenter.com/" rel="nofollow noreferrer" style="color: rgb(28\, 145\, 255)\; box-sizing: border-box\; display: inline-block\; line-height: 18px\; text-decoration-line: none\; background-color: transparent !important\;" target="_blank"><span style="color:rgb(0\, 0\, 0)"><strong>In Person:</strong><br />\nTaspen&#39\;s Yoga and Healing Center</span></a></div>\n\n<p>25797 Conifer Rd Ste C-130\, Conifer\, CO 80433\, USA<br />\nREGISTER HERE:&nbsp\;<a href="https://peaceworksinc.co/events">https://peaceworksinc.co/events</a><br />\n<br />\n<strong>To Join Online\, please use the Zoom Link Below:</strong><br />\n<a class="c-link c-link--focus-visible" href="https://us06web.zoom.us/j/3038388181?pwd=QVFOYkdYQ2pJQlJST1FJSHRtSXFLZz09&amp\;omn=97649440007" rel="noopener noreferrer" style="color: rgba(var(--sk_highlight\,18\,100\,163)\,1)\; box-sizing: inherit\; text-decoration-line: none\; font-family: Slack-Lato\, Slack-Fractions\, appleLogo\, sans-serif\; font-size: 15px\; font-variant-ligatures: common-ligatures\; background-color: rgb(248\, 248\, 248)\;" target="_blank">https://us06web.zoom.us/j/3038388181?pwd=QVFOYkdYQ2pJQlJST1FJSHRtSXFLZz09&amp\;omn=97649440007</a><br />\n<br />\n<span style="color:rgb(29\, 28\, 29)\; font-family:slack-lato\,slack-fractions\,applelogo\,sans-serif\; font-size:15px">Meeting ID 3038388181</span><br />\n<span style="color:rgb(29\, 28\, 29)\; font-family:slack-lato\,slack-fractions\,applelogo\,sans-serif\; font-size:15px">Passcode 993660</span></p>\n
LOCATION:IN PERSON OR ONLINE: In Person: Taspen's Yoga and Healing Center 25797 Conifer Rd Ste C-130\, Conifer\, CO 80433\, USA REGISTER HERE: https://peaceworksinc.co/events To Join Online\, please use the Zoom Link Below: https://us06web.zoom.us/j/3038388181?pwd=QVFOYkdYQ2pJQlJST1FJSHRtSXFLZz09&omn=97649440007 Meeting ID 3038388181 Passcode 993660
UID:e.298.103978
SEQUENCE:3
DTSTAMP:20260419T224908Z
URL:https://members.evergreenchamber.org/events/details/dru-yoga-11-12-2025-103978
END:VEVENT

END:VCALENDAR
