BEGIN:VCALENDAR
VERSION:2.0
PRODID:-//ChamberMaster//Event Calendar 2.0//EN
METHOD:PUBLISH
X-PUBLISHED-TTL:P3D
REFRESH-INTERVAL:P3D
CALSCALE:GREGORIAN
BEGIN:VEVENT
DTSTART:20210718T180000Z
DTEND:20210718T210000Z
X-MICROSOFT-CDO-ALLDAYEVENT:FALSE
SUMMARY:DrQ's How to Train Any Horse to do Anything\, by Anyone!
DESCRIPTION:Do you love horses and wish you could spend more time with them?\n\nDo you have a horse and have some nagging training issues?\n\nHave you ever been hurt or scared by horses\, yet are still drawn to them?\n\n\n\nThen this class is for you! Join us and start YOUR magical journey with horses!\n\n\n\nPlease read the full description here: https://mailchi.mp/drqandu.com/235z2nryk6
X-ALT-DESC;FMTTYPE=text/html:Do you love horses and wish you could spend more time with them?<br />\nDo you have a horse and have some nagging training issues?<br />\nHave you ever been hurt or scared by horses\, yet are still drawn to them?<br />\n<br />\nThen this class is for you! Join us and start YOUR magical journey with horses!<br />\n<br />\nPlease read the full description here:&nbsp\;<a href="https://mailchi.mp/drqandu.com/235z2nryk6">https://mailchi.mp/drqandu.com/235z2nryk6</a><br />\n<br />\n<br />\n&nbsp\;
LOCATION:virtual event\, online
UID:e.298.84344
SEQUENCE:3
DTSTAMP:20260425T030220Z
URL:https://members.evergreenchamber.org/events/details/drq-s-how-to-train-any-horse-to-do-anything-by-anyone-84344
END:VEVENT

END:VCALENDAR
