BEGIN:VCALENDAR
VERSION:2.0
PRODID:-//ChamberMaster//Event Calendar 2.0//EN
METHOD:PUBLISH
X-PUBLISHED-TTL:P3D
REFRESH-INTERVAL:P3D
CALSCALE:GREGORIAN
BEGIN:VEVENT
DTSTART:20251122T230000Z
DTEND:20251123T020000Z
X-MICROSOFT-CDO-ALLDAYEVENT:FALSE
SUMMARY:Drinks with Strangers\, in downtown Evergreen
DESCRIPTION:Drinks with Strangers is a place without judgment. No expectations\, just a social opportunity to connect with others. Come alone or bring a friend. Stay as little as long as you want. Just grab a drink and tell your story. Come see what happens  Nothing ventured\, nothing gained! \n\nEvergreen Strong-swing by and drop off a gift card (grocery\, restaurant\, clothing\, etc.) that will go directly to the Silverstone family this holiday season. \n\nAs you can imagine\, medical bills add up quickly. Help rally around this family this holiday season. Card/notes of encouragement are welcome to! Thank you.
X-ALT-DESC;FMTTYPE=text/html:<p><span style="font-family:uictfonttextstylebody">Drinks with Strangers is a place without judgment. No expectations\, just a social opportunity to connect with others. Come alone or bring a friend. Stay as little as long as you want. Just grab a drink and tell your story. Come see what happens&hellip\; Nothing ventured\, nothing gained!&nbsp\;</span></p>\n\n<p><span style="font-family:uictfonttextstylebody">Evergreen Strong-swing by and drop off a gift card (grocery\, restaurant\, clothing\, etc.) that will go directly to the Silverstone family this holiday season.&nbsp\;</span></p>\n\n<p><span style="font-family:uictfonttextstylebody">As you can imagine\, medical bills add up quickly. Help rally around this family this holiday season. Card/notes of encouragement are welcome to! Thank you.</span></p>\n
LOCATION:Saturday\, 11/22 from 4 PM to 7 PM The Cow\, An Eatery 28215 SH-74 Evergreen\, CO 80439 Parking is free on the downtown streets of Evergreen. Otherwise\, in the parking lots\, you need to pay for parking.
UID:e.298.103999
SEQUENCE:3
DTSTAMP:20260419T224621Z
URL:https://members.evergreenchamber.org/events/details/drinks-with-strangers-in-downtown-evergreen-103999
END:VEVENT

END:VCALENDAR
