BEGIN:VCALENDAR
VERSION:2.0
PRODID:-//ChamberMaster//Event Calendar 2.0//EN
METHOD:PUBLISH
X-PUBLISHED-TTL:P3D
REFRESH-INTERVAL:P3D
CALSCALE:GREGORIAN
BEGIN:VEVENT
DTSTART:20250815T150000Z
DTEND:20250817T210000Z
X-MICROSOFT-CDO-ALLDAYEVENT:FALSE
SUMMARY:Dr. Q’s Horse Training Master Class: 3-Day Immersive Experience
DESCRIPTION:Come join us for a hands-on master class in horse training at the ResqRanch! Whether you're a beginner or a seasoned rider\, this event is perfect for anyone looking to improve their horsemanship skills. Learn from our experienced trainer and local veterinarian\, Dr. Q\, and gain valuable insights on training techniques and horse care.\n\nThis is a 3-day in-person immersive experience Friday\, August 15th to Sunday\, August 17th from 9am-3pm each day at the ResqRanch in Evergreen\, CO (address to be provided after registration). Lunch is included as well as extra time to connect with Dr. Q and other equestrians to learn and practice your horse training skills! All proceeds from the master class go directly to support the animals at the ResqRanch.\n\nGet ready to bond with these majestic animals and take your training abilitiesto the next level! Sign up now for the ResqRanch Master Class Horse Training!\n\nStill have questions? Contact us at info@resqranch.org or (303) 838-3771.
X-ALT-DESC;FMTTYPE=text/html:<p>Come join us for a hands-on&nbsp\;master class&nbsp\;in&nbsp\;horse training&nbsp\;at the ResqRanch! Whether you&#39\;re a beginner or a seasoned rider\, this event is perfect for anyone looking to improve their&nbsp\;horsemanship skills. Learn from our experienced trainer and local veterinarian\, Dr. Q\, and gain valuable insights on&nbsp\;training techniques&nbsp\;and&nbsp\;horse care.</p>\n\n<p>This is a 3-day in-person immersive experience Friday\, August 15th to Sunday\, August 17th from 9am-3pm each day at the ResqRanch in Evergreen\, CO (address to be provided after registration). Lunch is included as well as extra time to connect with Dr. Q and other equestrians to learn and practice your horse training skills! All proceeds from the master class go directly to support the animals at the ResqRanch.</p>\n\n<p>Get ready to bond with these majestic animals and take your&nbsp\;training abilitiesto the next level! Sign up now for the&nbsp\;ResqRanch Master Class Horse Training!</p>\n\n<p>Still have questions? Contact us at&nbsp\;<a class="!text-viridian" href="http://info@resqranch.org/" rel="nofollow ugc" style="box-sizing: border-box\; --tw-border-spacing-x: 0\; --tw-border-spacing-y: 0\; --tw-translate-x: 0\; --tw-translate-y: 0\; --tw-rotate: 0\; --tw-skew-x: 0\; --tw-skew-y: 0\; --tw-scale-x: 1\; --tw-scale-y: 1\; --tw-pan-x: \; --tw-pan-y: \; --tw-pinch-zoom: \; --tw-scroll-snap-strictness: proximity\; --tw-gradient-from-position: \; --tw-gradient-via-position: \; --tw-gradient-to-position: \; --tw-ordinal: \; --tw-slashed-zero: \; --tw-numeric-figure: \; --tw-numeric-spacing: \; --tw-numeric-fraction: \; --tw-ring-inset: \; --tw-ring-offset-width: 0px\; --tw-ring-offset-color: #fff\; --tw-ring-color: rgba(59\,130\,246\,0.5)\; --tw-ring-offset-shadow: 0 0 #0000\; --tw-ring-shadow: 0 0 #0000\; --tw-shadow: 0 0 #0000\; --tw-shadow-colored: 0 0 #0000\; --tw-blur: \; --tw-brightness: \; --tw-contrast: \; --tw-grayscale: \; --tw-hue-rotate: \; --tw-invert: \; --tw-saturate: \; --tw-sepia: \; --tw-drop-shadow: \; --tw-backdrop-blur: \; --tw-backdrop-brightness: \; --tw-backdrop-contrast: \; --tw-backdrop-grayscale: \; --tw-backdrop-hue-rotate: \; --tw-backdrop-invert: \; --tw-backdrop-opacity: \; --tw-backdrop-saturate: \; --tw-backdrop-sepia: \; --tw-contain-size: \; --tw-contain-layout: \; --tw-contain-paint: \; --tw-contain-style: \; border: 0px solid\; color: rgb(0\, 152\, 171)\; text-decoration: inherit\; --tw-text-opacity: 1 !important\;" target="_blank">info@resqranch.org</a>&nbsp\;or&nbsp\;<a href="tel:(303) 838-3771" style="box-sizing: border-box\; --tw-border-spacing-x: 0\; --tw-border-spacing-y: 0\; --tw-translate-x: 0\; --tw-translate-y: 0\; --tw-rotate: 0\; --tw-skew-x: 0\; --tw-skew-y: 0\; --tw-scale-x: 1\; --tw-scale-y: 1\; --tw-pan-x: \; --tw-pan-y: \; --tw-pinch-zoom: \; --tw-scroll-snap-strictness: proximity\; --tw-gradient-from-position: \; --tw-gradient-via-position: \; --tw-gradient-to-position: \; --tw-ordinal: \; --tw-slashed-zero: \; --tw-numeric-figure: \; --tw-numeric-spacing: \; --tw-numeric-fraction: \; --tw-ring-inset: \; --tw-ring-offset-width: 0px\; --tw-ring-offset-color: #fff\; --tw-ring-color: rgba(59\,130\,246\,0.5)\; --tw-ring-offset-shadow: 0 0 #0000\; --tw-ring-shadow: 0 0 #0000\; --tw-shadow: 0 0 #0000\; --tw-shadow-colored: 0 0 #0000\; --tw-blur: \; --tw-brightness: \; --tw-contrast: \; --tw-grayscale: \; --tw-hue-rotate: \; --tw-invert: \; --tw-saturate: \; --tw-sepia: \; --tw-drop-shadow: \; --tw-backdrop-blur: \; --tw-backdrop-brightness: \; --tw-backdrop-contrast: \; --tw-backdrop-grayscale: \; --tw-backdrop-hue-rotate: \; --tw-backdrop-invert: \; --tw-backdrop-opacity: \; --tw-backdrop-saturate: \; --tw-backdrop-sepia: \; --tw-contain-size: \; --tw-contain-layout: \; --tw-contain-paint: \; --tw-contain-style: \; border: 0px solid\; color: rgb(0\, 152\, 171)\; text-decoration: inherit\;">(303) 838-3771</a>.</p>\n
LOCATION:ResqRanch\, Evergreen\, CO 80439 Address will be provided after registration
UID:e.298.100239
SEQUENCE:3
DTSTAMP:20260420T035441Z
URL:https://members.evergreenchamber.org/events/details/dr-q-s-horse-training-master-class-3-day-immersive-experience-08-15-2025-100239
END:VEVENT

END:VCALENDAR
