BEGIN:VCALENDAR
VERSION:2.0
PRODID:-//ChamberMaster//Event Calendar 2.0//EN
METHOD:PUBLISH
X-PUBLISHED-TTL:P3D
REFRESH-INTERVAL:P3D
CALSCALE:GREGORIAN
BEGIN:VEVENT
DTSTART:20211031T210000Z
DTEND:20211031T230000Z
X-MICROSOFT-CDO-ALLDAYEVENT:FALSE
SUMMARY:Downtown Evergreen Halloween Trick or Treating
DESCRIPTION:Bring all your ghosts and goblins to downtown Evergreen for Trick or Treating from business to business.
X-ALT-DESC;FMTTYPE=text/html:Bring all your ghosts and goblins to downtown Evergreen for Trick or Treating from business to business.
LOCATION:
UID:e.298.83473
SEQUENCE:3
DTSTAMP:20260420T125552Z
URL:https://members.evergreenchamber.org/events/details/downtown-evergreen-halloween-trick-or-treating-83473
END:VEVENT

END:VCALENDAR
