BEGIN:VCALENDAR
VERSION:2.0
PRODID:-//ChamberMaster//Event Calendar 2.0//EN
METHOD:PUBLISH
X-PUBLISHED-TTL:P3D
REFRESH-INTERVAL:P3D
CALSCALE:GREGORIAN
BEGIN:VEVENT
DTSTART:20240121T180000Z
DTEND:20240121T200000Z
X-MICROSOFT-CDO-ALLDAYEVENT:FALSE
SUMMARY:Dog Park is Open
DESCRIPTION:We are thrilled to announce the grand opening of Evergreen Athletic Club Dog Park\, our exclusive membership-only dog park! This unique space is designed for the ultimate canine experience\, providing a secure and welcoming environment for our furry friends and their owners.\n\nJoin us this Sunday\, January 21st from 11:00am - 1:00pm.  We anticipate great weather for a dog gathering.\n\n\n\nhttps://clients.mindbodyonline.com/classic/ws?studioid=204771&stype=40&prodid=131Memberships
X-ALT-DESC;FMTTYPE=text/html:<p><span style="background-color:transparent\; color:rgb(55\, 65\, 81)\; font-family:roboto\,sans-serif\; font-size:12pt">We are thrilled to announce the grand opening of Evergreen Athletic Club Dog Park\, our exclusive membership-only dog park! This unique space is designed for the ultimate canine experience\, providing a secure and welcoming environment for our furry friends and their owners.</span></p>\n\n<p><span style="background-color:transparent\; color:rgb(55\, 65\, 81)\; font-family:roboto\,sans-serif\; font-size:12pt">Join us this Sunday\, January 21st from 11:00am - 1:00pm.&nbsp\; We anticipate great weather for a dog gathering.<br />\n<br />\n<a href="https://clients.mindbodyonline.com/classic/ws?studioid=204771&amp\;stype=40&amp\;prodid=131" target="_blank">https://clients.mindbodyonline.com/classic/ws?studioid=204771&amp\;stype=40&amp\;prodid=131</a>Memberships</span></p>\n\n<p>&nbsp\;</p>\n\n<div>&nbsp\;</div>\n
LOCATION:Evergreen Athletic Club 2932 Evergreen Pkwy A\, Evergreen\, CO 80439
UID:e.298.91465
SEQUENCE:3
DTSTAMP:20260423T062605Z
URL:https://members.evergreenchamber.org/events/details/dog-park-is-open-91465
END:VEVENT

END:VCALENDAR
