BEGIN:VCALENDAR
VERSION:2.0
PRODID:-//ChamberMaster//Event Calendar 2.0//EN
METHOD:PUBLISH
X-PUBLISHED-TTL:P3D
REFRESH-INTERVAL:P3D
CALSCALE:GREGORIAN
BEGIN:VEVENT
DTSTART:20210107T200000Z
DTEND:20210107T220000Z
X-MICROSOFT-CDO-ALLDAYEVENT:FALSE
SUMMARY:Digital Marketing in 2021 Workshop
DESCRIPTION:Do you have a Digital Marketing plan for 2021? Do you have a strategy to make the most of your Digital Marketing efforts? Digital marketing is essential for every business today. Some businesses can "get by" with just the minimum but others need a much larger online presence. And some who are "getting by" realize how much they can grow with a little bit of additional digital marketing effort. This 2 hour workshop will help you identify some key elements of a successful digital marketing campaign for your business. A workbook will be sent when you register so you can start thinking about the topics and a recording will be provided to all participants after the workshop is complete so you can refer back to our conversations. Space is very limited so register now! https://alphapixelreach.com/2021-workshop/
X-ALT-DESC;FMTTYPE=text/html:Do you have a Digital Marketing plan for 2021? Do you have a strategy to make the most of your Digital Marketing efforts? Digital marketing is essential for every business today. Some businesses can &ldquo\;get by&rdquo\; with just the minimum but others need a much larger online presence. And some who are &ldquo\;getting by&rdquo\; realize how much they can grow with a little bit of additional digital marketing effort. This 2 hour workshop will help you identify some key elements of a successful digital marketing campaign for your business. A workbook will be sent when you register so you can start thinking about the topics and a recording will be provided to all participants after the workshop is complete so you can refer back to our conversations. Space is very limited so register now! https://alphapixelreach.com/2021-workshop/
LOCATION:Online Event
UID:e.298.83516
SEQUENCE:3
DTSTAMP:20260425T123752Z
URL:https://members.evergreenchamber.org/events/details/digital-marketing-in-2021-workshop-83516
END:VEVENT

END:VCALENDAR
