BEGIN:VCALENDAR
VERSION:2.0
PRODID:-//ChamberMaster//Event Calendar 2.0//EN
METHOD:PUBLISH
X-PUBLISHED-TTL:P3D
REFRESH-INTERVAL:P3D
CALSCALE:GREGORIAN
BEGIN:VEVENT
DTSTART;VALUE=DATE:20201205
DTEND;VALUE=DATE:20201221
TRANSP:TRANSPARENT
X-MICROSOFT-CDO-ALLDAYEVENT:TRUE
SUMMARY:December in Downtown Evergreen
DESCRIPTION:2020 continues to be a difficult year for all and we wanted to make sure the community is still able to experience the JOY of the season. In lieu of the annual holiday walk\, we have created December in Downtown Evergreen. A month of family friendly activities\, entertainers and musicians to enhance your experience as you are supporting local businesses in Downtown Evergreen. We have worked extremely hard to make sure everything is placed throughout Main Street so we are not to draw a large crowd in any one area. We are also repeating performances so that you have more than one opportunity to visit and view what we have scheduled. In order for this to be a success we will need your help - if you are sick\, please stay home: please wear a mask and respect social distancing. We are excited to celebrate the season and truly appreciate your continued support of Downtown Evergreen!\n\n \n\nDecember in Downtown Evergreen Schedule\n\n \n \n\nDecember 5th (Saturday)\n\n   10am-6pm Kettle Korn and Cinnamon Roasted Almonds & Pecans by Poppin Stuff\n\n   11am-4pm Complimentary Hot Chocolate at Slife's Devil Dogs\n\n   12pm-2pm Aksaxo Jazz featuring Lee Pulliam - Sponsored by Bear Paw Properties \n\n   1pm-4pm Balloons\, Magic & More with Marty - sponsored by Evergreen Crafters\n\n   2pm-4pm Special Appearance by Frosty the Snowman and Rudolph the Reindeer - Sponsored by Maya's Cantina & Grill\n\n   3pm-5pm LIVE Ice Carving Demonstration - sponsored by Cactus Jack's Saloon & Bar \n\n   1pm-4pm Holiday Video Greetings from Santa & Mrs. Claus - Sponsored by Marmalade Jewelry and Sweetwater Boutique\n\n   3pm-5pm Lisa D and Wendy Lee Acoustic Duo - sponsored by Evergreen Clothing Company\n\n   \n\nDecember 6th (Sunday)\n\n   10am-4pm Kettle Korn and Cinnamon Roasted Almonds & Pecans by Poppin Stuff\n\n   11am-4pm Complimentary Hot Chocolate at Slife's Devil Dogs\n\n   12pm-2pm Special Appearance by Frosty the Snowman and Rudolph the Reindeer - Sponsored by Valli Crockett\n\n   11am-1pm Nerea the Fiddler - Sponsored by da Vinci Realty \n\n   1pm-3pm Dancing Christmas Tree - sponsored by Swan Realty\n\n   2pm-4pm Music by Stone Riot- sponsored by Da Vinci Realty \n\n       \n \n\nDecember 12 (Saturday)\n\n   10am-6pm Kettle Korn and Cinnamon Roasted Almonds & Pecans by Poppin Stuff\n\n   11am-4pm Complimentary Hot Chocolate at Slife's Devil Dogs\n\n   12pm-1230pm Evergreen Dance Center Performance\n\n   1pm-130pm Evergreen Children's Chorale Performance\n\n   1pm-3pm Special Appearance by Frosty the Snowman and Rudolph the Reindeer - Sponsored by Mountain Realty & Development\n\n   230pm-3pm Evergreen School of Ballet Performance\n\n   330pm-430pm Evergreen Players Performance\n\n   5pm-6pm Evergreen High School Acapella Group "The Unaccompanied Minors" Performance\n\n   2pm-5pm Live Nativity presented by Lutheran Church of The Cross\n\n   \n \n\nDecember 13th (Sunday)\n\n   10am-4pm Kettle Korn and Cinnamon Roasted Almonds & Pecans by Poppin Stuff\n\n   11am-4pm Complimentary Hot Chocolate at Slife's Devil Dogs\n\n   2pm-4pm Special Appearance by Frosty the Snowman and Rudolph the Reindeer - Sponsored by Valli Crockett\n\n   12pm-1230pm Evergreen Dance Center Performance\n\n   1pm-130pm Evergreen Children's Chorale Performance\n\n   230pm-3pm Evergreen School of Ballet Performance\n\n   3pm-5pm Lisa D and Wendy Lee Acoustic Duo - sponsored by Evergreen Clothing Company\n\n   11am-1pm Dancing Christmas Tree - sponsored by Baskin Robbins\n\n   \n \n\nDecember 19th (Saturday)\n\n   10am-6pm Kettle Korn and Cinnamon Roasted Almonds & Pecans by Poppin Stuff\n\n   11am-4pm Complimentary Hot Chocolate at Slife's Devil Dogs\n\n   11am-1pm The Kustoms Trio: Ann Dam\, Patrick Hiester & John Kendall - sponsored by Da Vinci Realty \n\n   12pm-3pm Balloons\, Magic & More with Marty - sponsored by Kiki's Fresh Bowls\, Murphy's Mountain Grill and Muddy Buck Cafe\n\n   1pm-3pm Twas the Night Before Christmas Virtual Reading with Santa and Mrs. Claus - sponsored by The Evergreen Gallery\n\n   2pm-4pm Special Appearance by Frosty the Snowman and Rudolph the Reindeer - Sponsored by Endless Travel\n\n   3pm-5pm Aksaxo Jazz featuring Lee Pulliam - Sponsored by Alpen Way Chalet Mountain Lodge\n\n   \n \n\nDecember 20th (Sunday)\n\n   10am-4pm Kettle Korn and Cinnamon Roasted Almonds & Pecans by Poppin Stuff\n\n   11am-4pm Complimentary Hot Chocolate at Slife's Devil Dogs\n\n   11am-1pm The Kustoms Trio: Ann Dam\, Patrick Hiester & John Kendall - sponsored by Da Vinci Realty \n\n   1pm-3pm Special Appearance by Frosty the Snowman and Rudolph the Reindeer - sponsored by Evergreen Clothing Company\n\n   1pm-4pm Balloons\, Magic & More with Marty - sponsored by Bear Essence Salon & Boutique\n\n   2pm-4pm Twas the Night Before Christmas Virtual Reading with Santa and Mrs. Claus - sponsored by The Evergreen Gallery\n\n   2pm-4pm Dancing Christmas Tree -   sponsored by The Wildflower Cafe\n\n \n\nSpecial Thanks to Cub Scout Pack 119 for the Design and Installation of The Holiday Display and Zuni Signs for Creating and Hanging the Holiday Banner as well as Installing the Christmas Tree Lights\n\n \n\nLetters to Santa: A Special Red Mailbox has been placed at The Holiday Display (next to Sweetwater Boutique). Please place all Letters to Santa in the box and we will ensure they are sent to The North Pole. If you would like to receive a reply letter from the North Pole then please include a self addressed\, stamped envelope by December 15th. All letters collected after December 15th will be guaranteed on time deliver to Santa by Christmas\n\n \n\n#evergreenelfieselfie: A sneaky little elf seems to be bouncing between display windows in Downtown Evergreen. Take an Elfie Selfie with them and post to Facebook and Instagram with the hashtag #evergreenelfieselfie. At the end of December an Elfie Selfie will be chosen at random for a prize .enter every time you see the Elf in a new location.\n\n \n\nHoliday Scavenger Hunt: A great way to entertain the kids while you are shopping local for the holidays. Pick up your scavenger hunt game card at Sweetwater Boutique throughout the month of December. Once you have received 5 stickers from participating businesses\, return your card to Sweetwater Boutique for a special treat and you will be entered to win a prize at the end of the month.
X-ALT-DESC;FMTTYPE=text/html:<div><span style="font-family:arial\; font-size:11pt">2020 continues to be a difficult year for all and we wanted to make sure the community is still able to experience the JOY of the season. In lieu of the annual holiday walk\, we have created December in Downtown Evergreen. A month of family friendly activities\, entertainers and musicians to enhance your experience as you are supporting local businesses in Downtown Evergreen. We have worked extremely hard to make sure everything is placed throughout Main Street so we are not to draw a large crowd in any one area. We are also repeating performances so that you have more than one opportunity to visit and view what we have scheduled. In order for this to be a success we will need your help - if you are sick\, please stay home: please wear a mask and respect social distancing. We are excited to celebrate the season and truly appreciate your continued support of Downtown Evergreen!</span></div>\n\n<div style="text-align:center">&nbsp\;</div>\n\n<div style="text-align:center"><span style="font-family:arial\; font-size:11pt">December in Downtown Evergreen Schedule</span></div>\n\n<div>&nbsp\;</div>\n&nbsp\;\n\n<div><span style="font-family:arial\; font-size:11pt">December 5th (Saturday)</span></div>\n\n<div><span style="font-family:arial\; font-size:11pt">&nbsp\;&nbsp\;&nbsp\;10am-6pm Kettle Korn and Cinnamon Roasted Almonds &amp\; Pecans by Poppin Stuff</span></div>\n\n<div><span style="font-family:arial\; font-size:11pt">&nbsp\;&nbsp\;&nbsp\;11am-4pm Complimentary Hot Chocolate at Slife&rsquo\;s Devil Dogs</span></div>\n\n<div><span style="font-family:arial\; font-size:11pt">&nbsp\;&nbsp\;&nbsp\;12pm-2pm Aksaxo Jazz featuring Lee Pulliam - Sponsored by Bear Paw Properties </span></div>\n\n<div><span style="font-family:arial\; font-size:11pt">&nbsp\;&nbsp\;&nbsp\;1pm-4pm Balloons\, Magic &amp\; More with Marty - sponsored by Evergreen Crafters</span></div>\n\n<div><span style="font-family:arial\; font-size:11pt">&nbsp\;&nbsp\;&nbsp\;2pm-4pm Special Appearance by Frosty the Snowman and Rudolph the Reindeer - Sponsored by Maya&rsquo\;s Cantina &amp\; Grill</span></div>\n\n<div><span style="font-family:arial\; font-size:11pt">&nbsp\;&nbsp\;&nbsp\;3pm-5pm LIVE Ice Carving Demonstration - sponsored by Cactus Jack&#39\;s Saloon &amp\; Bar </span></div>\n\n<div><span style="font-family:arial\; font-size:11pt">&nbsp\;&nbsp\;&nbsp\;1pm-4pm Holiday Video Greetings from Santa &amp\; Mrs. Claus - Sponsored by Marmalade Jewelry and Sweetwater Boutique</span></div>\n\n<div><span style="font-family:arial\; font-size:11pt">&nbsp\; &nbsp\;3pm-5pm Lisa D and Wendy Lee Acoustic Duo - sponsored by Evergreen Clothing Company</span></div>\n\n<p><span style="font-family:arial\; font-size:11pt">&nbsp\;&nbsp\;&nbsp\;</span></p>\n\n<div><span style="font-family:arial\; font-size:11pt">December 6th (Sunday)</span></div>\n\n<div><span style="font-family:arial\; font-size:11pt">&nbsp\;&nbsp\;&nbsp\;10am-4pm </span><span style="font-family:arial\; font-size:14.666666984558105px">Kettle Korn and Cinnamon Roasted Almonds &amp\; Pecans by Poppin Stuff</span></div>\n\n<div><span style="font-family:arial\; font-size:11pt">&nbsp\;&nbsp\;&nbsp\;11am-4pm Complimentary Hot Chocolate at Slife&rsquo\;s Devil Dogs</span></div>\n\n<div><span style="font-family:arial\; font-size:11pt">&nbsp\;&nbsp\;&nbsp\;12pm-2pm Special Appearance by Frosty the Snowman and Rudolph the Reindeer - Sponsored by Valli Crockett</span></div>\n\n<div><span style="font-family:arial\; font-size:11pt">&nbsp\;&nbsp\;&nbsp\;11am-1pm Nerea the Fiddler - Sponsored by da Vinci Realty </span></div>\n\n<div><span style="font-family:arial\; font-size:11pt">&nbsp\;&nbsp\;&nbsp\;1pm-3pm Dancing Christmas Tree - sponsored by Swan Realty</span></div>\n\n<div><span style="font-family:arial\; font-size:11pt">&nbsp\;&nbsp\;&nbsp\;2pm-4pm Music by Stone Riot- sponsored by Da Vinci Realty </span></div>\n\n<p><span style="font-family:arial\; font-size:11pt">&nbsp\;&nbsp\;&nbsp\;&nbsp\;&nbsp\;&nbsp\;&nbsp\;</span></p>\n&nbsp\;\n\n<div><span style="font-family:arial\; font-size:11pt">December 12 (Saturday)</span></div>\n\n<div><span style="font-family:arial\; font-size:11pt">&nbsp\;&nbsp\;&nbsp\;10am-6pm </span><span style="font-family:arial\; font-size:14.666666984558105px">Kettle Korn and Cinnamon Roasted Almonds &amp\; Pecans by Poppin Stuff</span></div>\n\n<div><span style="font-family:arial\; font-size:11pt">&nbsp\;&nbsp\;&nbsp\;11am-4pm Complimentary Hot Chocolate at Slife&rsquo\;s Devil Dogs</span></div>\n\n<div><span style="font-family:arial\; font-size:11pt">&nbsp\;&nbsp\;&nbsp\;12pm-1230pm Evergreen Dance Center Performance</span></div>\n\n<div><span style="font-family:arial\; font-size:11pt">&nbsp\;&nbsp\;&nbsp\;1pm-130pm Evergreen Children&rsquo\;s Chorale Performance</span></div>\n\n<div><span style="font-family:arial\; font-size:11pt">&nbsp\;&nbsp\;&nbsp\;1pm-3pm Special Appearance by Frosty the Snowman and Rudolph the Reindeer - Sponsored by Mountain Realty &amp\; Development</span></div>\n\n<div><span style="font-family:arial\; font-size:11pt">&nbsp\;&nbsp\;&nbsp\;230pm-3pm Evergreen School of Ballet Performance</span></div>\n\n<div><span style="font-family:arial\; font-size:11pt">&nbsp\;&nbsp\;&nbsp\;330pm-430pm Evergreen Players Performance</span></div>\n\n<div><span style="font-family:arial\; font-size:11pt">&nbsp\;&nbsp\;&nbsp\;5pm-6pm Evergreen High School Acapella Group &ldquo\;The Unaccompanied Minors&rdquo\; Performance</span></div>\n\n<div><span style="font-family:arial\; font-size:11pt">&nbsp\;&nbsp\;&nbsp\;2pm-5pm Live Nativity presented by Lutheran Church of The Cross</span></div>\n\n<p><span style="font-family:arial\; font-size:11pt">&nbsp\;&nbsp\;&nbsp\;</span></p>\n&nbsp\;\n\n<div><span style="font-family:arial\; font-size:11pt">December 13th (Sunday)</span></div>\n\n<div><span style="font-family:arial\; font-size:11pt">&nbsp\;&nbsp\;&nbsp\;10am-4pm </span><span style="font-family:arial\; font-size:14.666666984558105px">Kettle Korn and Cinnamon Roasted Almonds &amp\; Pecans by Poppin Stuff</span></div>\n\n<div><span style="font-family:arial\; font-size:11pt">&nbsp\;&nbsp\;&nbsp\;11am-4pm Complimentary Hot Chocolate at Slife&rsquo\;s Devil Dogs</span></div>\n\n<div><span style="font-family:arial\; font-size:11pt">&nbsp\; &nbsp\;2pm-4pm Special Appearance by Frosty the Snowman and Rudolph the Reindeer - Sponsored by Valli Crockett</span></div>\n\n<div><span style="font-family:arial\; font-size:11pt">&nbsp\;&nbsp\;&nbsp\;12pm-1230pm Evergreen Dance Center Performance</span></div>\n\n<div><span style="font-family:arial\; font-size:11pt">&nbsp\;&nbsp\;&nbsp\;1pm-130pm Evergreen Children&rsquo\;s Chorale Performance</span></div>\n\n<div><span style="font-family:arial\; font-size:11pt">&nbsp\;&nbsp\;&nbsp\;230pm-3pm Evergreen School of Ballet Performance</span></div>\n\n<div><span style="font-family:arial\; font-size:11pt">&nbsp\;&nbsp\;&nbsp\;3pm-5pm Lisa D and Wendy Lee Acoustic Duo - sponsored by Evergreen Clothing Company</span></div>\n\n<div><span style="font-family:arial\; font-size:11pt">&nbsp\; &nbsp\;11am-1pm Dancing Christmas Tree - sponsored by Baskin Robbins</span></div>\n\n<p><span style="font-family:arial\; font-size:11pt">&nbsp\;&nbsp\;&nbsp\;</span></p>\n&nbsp\;\n\n<div><span style="font-family:arial\; font-size:11pt">December 19th (Saturday)</span></div>\n\n<div><span style="font-family:arial\; font-size:11pt">&nbsp\;&nbsp\;&nbsp\;10am-6pm </span><span style="font-family:arial\; font-size:14.666666984558105px">Kettle Korn and Cinnamon Roasted Almonds &amp\; Pecans by Poppin Stuff</span></div>\n\n<div><span style="font-family:arial\; font-size:11pt">&nbsp\;&nbsp\;&nbsp\;11am-4pm Complimentary Hot Chocolate at Slife&rsquo\;s Devil Dogs</span></div>\n\n<div><span style="font-family:arial\; font-size:11pt">&nbsp\;&nbsp\;&nbsp\;11am-1pm The Kustoms Trio: Ann Dam\, Patrick Hiester &amp\; John Kendall - sponsored by Da Vinci Realty </span></div>\n\n<div><span style="font-family:arial\; font-size:11pt">&nbsp\;&nbsp\;&nbsp\;12pm-3pm Balloons\, Magic &amp\; More with Marty - sponsored by Kiki&rsquo\;s Fresh Bowls\, Murphy&#39\;s Mountain Grill and Muddy Buck Cafe</span></div>\n\n<div><span style="font-family:arial\; font-size:11pt">&nbsp\;&nbsp\;&nbsp\;1pm-3pm Twas the Night Before Christmas Virtual Reading with Santa and Mrs. Claus - sponsored by The Evergreen Gallery</span></div>\n\n<div><span style="font-family:arial\; font-size:11pt">&nbsp\;&nbsp\;&nbsp\;2pm-4pm Special Appearance by Frosty the Snowman and Rudolph the Reindeer - Sponsored by Endless Travel</span></div>\n\n<div><span style="font-family:arial\; font-size:11pt">&nbsp\;&nbsp\;&nbsp\;3pm-5pm Aksaxo Jazz featuring Lee Pulliam - Sponsored by Alpen Way Chalet Mountain Lodge</span></div>\n\n<p><span style="font-family:arial\; font-size:11pt">&nbsp\;&nbsp\;&nbsp\;</span></p>\n&nbsp\;\n\n<div><span style="font-family:arial\; font-size:11pt">December 20th (Sunday)</span></div>\n\n<div><span style="font-family:arial\; font-size:11pt">&nbsp\;&nbsp\;&nbsp\;10am-4pm </span><span style="font-family:arial\; font-size:14.666666984558105px">Kettle Korn and Cinnamon Roasted Almonds &amp\; Pecans by Poppin Stuff</span></div>\n\n<div><span style="font-family:arial\; font-size:11pt">&nbsp\;&nbsp\;&nbsp\;11am-4pm Complimentary Hot Chocolate at Slife&rsquo\;s Devil Dogs</span></div>\n\n<div><span style="font-family:arial\; font-size:11pt">&nbsp\;&nbsp\;&nbsp\;11am-1pm The Kustoms Trio: Ann Dam\, Patrick Hiester &amp\; John Kendall - sponsored by Da Vinci Realty </span></div>\n\n<div><span style="font-family:arial\; font-size:11pt">&nbsp\;&nbsp\;&nbsp\;1pm-3pm Special Appearance by Frosty the Snowman and Rudolph the Reindeer - sponsored by Evergreen Clothing Company</span></div>\n\n<div><span style="font-family:arial\; font-size:11pt">&nbsp\;&nbsp\;&nbsp\;1pm-4pm Balloons\, Magic &amp\; More with Marty - sponsored by Bear Essence Salon &amp\; Boutique</span></div>\n\n<div><span style="font-family:arial\; font-size:11pt">&nbsp\;&nbsp\;&nbsp\;2pm-4pm </span><span style="font-family:arial\; font-size:14.666666984558105px">Twas the Night Before Christmas Virtual Reading with Santa and Mrs. Claus - sponsored by The Evergreen Gallery</span></div>\n\n<div><span style="font-family:arial\; font-size:11pt">&nbsp\;&nbsp\;&nbsp\;2pm-4pm Dancing Christmas Tree - &nbsp\; sponsored by The Wildflower Cafe</span></div>\n\n<div>&nbsp\;</div>\n\n<div><span style="font-family:arial\; font-size:11pt">Special Thanks to Cub Scout Pack 119 for the Design and Installation of The Holiday Display and Zuni Signs for Creating and Hanging the Holiday Banner as well as Installing the Christmas Tree Lights</span></div>\n\n<div>&nbsp\;</div>\n\n<div><span style="font-family:arial\; font-size:11pt">Letters to Santa: A Special Red Mailbox has been placed at The Holiday Display (next to Sweetwater Boutique). Please place all Letters to Santa in the box and we will ensure they are sent to The North Pole. If you would like to receive a reply letter from the North Pole then please include a self addressed\, stamped envelope by December 15th. All letters collected after December 15th will be guaranteed on time deliver to Santa by Christmas</span></div>\n\n<div>&nbsp\;</div>\n\n<div><span style="font-family:arial\; font-size:11pt">#evergreenelfieselfie: A sneaky little elf seems to be bouncing between display windows in Downtown Evergreen. Take an Elfie Selfie with them and post to Facebook and Instagram with the hashtag #evergreenelfieselfie. At the end of December an Elfie Selfie will be chosen at random for a prize&hellip\;.enter every time you see the Elf in a new location.</span></div>\n\n<div>&nbsp\;</div>\n\n<div><span style="font-family:arial\; font-size:11pt">Holiday Scavenger Hunt: A great way to entertain the kids while you are shopping local for the holidays. Pick up your scavenger hunt game card at Sweetwater Boutique throughout the month of December. Once you have received 5 stickers from participating businesses\, return your card to Sweetwater Boutique for a special treat and you will be entered to win a prize at the end of the month.</span><br />\n<br />\n&nbsp\;</div>\n
LOCATION:
UID:e.298.83242
SEQUENCE:3
DTSTAMP:20260425T141849Z
URL:https://members.evergreenchamber.org/events/details/december-in-downtown-evergreen-83242
END:VEVENT

END:VCALENDAR
