BEGIN:VCALENDAR
VERSION:2.0
PRODID:-//ChamberMaster//Event Calendar 2.0//EN
METHOD:PUBLISH
X-PUBLISHED-TTL:P3D
REFRESH-INTERVAL:P3D
CALSCALE:GREGORIAN
BEGIN:VEVENT
DTSTART:20251205T013000Z
DTEND:20251205T050000Z
X-MICROSOFT-CDO-ALLDAYEVENT:FALSE
SUMMARY:David Arkenstone & Friends
DESCRIPTION:Multi-GRAMMY   Award Nominee David Arkenstone returns to Center Stage in Evergreen with his enchanting holiday concert A Winter's Eve with David Arkenstone & Friends. Join David Arkenstone and his band of virtuoso musicians for this lively winter celebration of beloved holiday classics "reimagined\," joyfully blending world music\, Celtic\, cinematic\, new age\, and neo-classical crossover. David's concerts captivate audiences each year with seasonal tunes from his treasured holiday albums Celtic Christmas\, Christmas Lounge\, and Winterlude. Proceeds go to Matthew Silverstone.
X-ALT-DESC;FMTTYPE=text/html:Multi-GRAMMY &reg\; Award Nominee David Arkenstone returns to Center Stage in Evergreen with his enchanting holiday concert A Winter&rsquo\;s Eve with David Arkenstone &amp\; Friends. Join David Arkenstone and his band of virtuoso musicians for this lively winter celebration of beloved holiday classics &ldquo\;reimagined\,&rdquo\; joyfully blending world music\, Celtic\, cinematic\, new age\, and neo-classical crossover. David&rsquo\;s concerts captivate audiences each year with seasonal tunes from his treasured holiday albums Celtic Christmas\, Christmas Lounge\, and Winterlude. Proceeds go to Matthew Silverstone.
LOCATION:Center Stage 27608 Fireweed Drive\, Evergreen CO 80439
UID:e.298.104050
SEQUENCE:3
DTSTAMP:20260419T214240Z
URL:https://members.evergreenchamber.org/events/details/david-arkenstone-friends-104050
END:VEVENT

END:VCALENDAR
