BEGIN:VCALENDAR
VERSION:2.0
PRODID:-//ChamberMaster//Event Calendar 2.0//EN
METHOD:PUBLISH
X-PUBLISHED-TTL:P3D
REFRESH-INTERVAL:P3D
CALSCALE:GREGORIAN
BEGIN:VEVENT
DTSTART:20221210T020000Z
DTEND:20221212T040000Z
X-MICROSOFT-CDO-ALLDAYEVENT:FALSE
SUMMARY:Dancing in the Light
DESCRIPTION:ECC's Prelude & Company will be performing their annual winter concert at Center Stage the second weekend of December. This year the holiday tradition continues with songs about dancing and light! This show is sure to entertain audiences of all ages. We dare you not to sing and dance along! Songs featuring: Castaways\, Little Creek\, Fireflies\, Better When I'm Dancing\, This Little Holiday Light of Mine\, and Holiday Lights!
X-ALT-DESC;FMTTYPE=text/html:ECC&#39\;s Prelude &amp\; Company will be performing their annual winter concert at Center Stage the second weekend of December. This year the holiday tradition continues with songs about dancing and light! This show is sure to entertain audiences of all ages. We dare you not to sing and dance along! Songs featuring: Castaways\, Little Creek\, Fireflies\, Better When I&#39\;m Dancing\, This Little Holiday Light of Mine\, and Holiday Lights!
LOCATION:Center Stage Theater Fireweed Dr. Evergreen\, CO 80439
UID:e.298.88447
SEQUENCE:3
DTSTAMP:20260424T005328Z
URL:https://members.evergreenchamber.org/events/details/dancing-in-the-light-88447
END:VEVENT

END:VCALENDAR
