BEGIN:VCALENDAR
VERSION:2.0
PRODID:-//ChamberMaster//Event Calendar 2.0//EN
METHOD:PUBLISH
X-PUBLISHED-TTL:P3D
REFRESH-INTERVAL:P3D
CALSCALE:GREGORIAN
BEGIN:VEVENT
DTSTART:20230702T200000Z
DTEND:20230703T000000Z
X-MICROSOFT-CDO-ALLDAYEVENT:FALSE
SUMMARY:Damon Woods' Harmonious Junk - Live Music
DESCRIPTION:Harmonious Junk was formed in 2001 as a side project for James Brown Guitarist\, Damon Wood. His intent was to have something fun at home to work with in between JB's world tours. The band has always been a mix of Funk\, Rock and Jazz with a JamBand mentality.
X-ALT-DESC;FMTTYPE=text/html:<span style="color:rgb(0\, 0\, 0)\; font-family:georgia">Harmonious Junk was formed in 2001 as a side project for James Brown Guitarist\, Damon Wood. His intent was to have something fun at home to work with in between JB&rsquo\;s world tours. The band has always been a mix of Funk\, Rock and Jazz with a JamBand mentality.</span>
LOCATION:
UID:e.298.89993
SEQUENCE:3
DTSTAMP:20260423T150934Z
URL:https://members.evergreenchamber.org/events/details/damon-woods-harmonious-junk-live-music-89993
END:VEVENT

END:VCALENDAR
