BEGIN:VCALENDAR
VERSION:2.0
PRODID:-//ChamberMaster//Event Calendar 2.0//EN
METHOD:PUBLISH
X-PUBLISHED-TTL:P3D
REFRESH-INTERVAL:P3D
CALSCALE:GREGORIAN
BEGIN:VEVENT
DTSTART:20250215T000000Z
DTEND:20250215T020000Z
X-MICROSOFT-CDO-ALLDAYEVENT:FALSE
SUMMARY:Curling & Cocktails
DESCRIPTION:Join EPRD for Curling & Cocktails on 2/14 at Evergreen Lake House from 5pm-7pm. Curling games will be pick up style and take place on the Rinky Dink Rink. 2 drink tickets/registration provided!
X-ALT-DESC;FMTTYPE=text/html:Join EPRD for Curling &amp\; Cocktails on 2/14 at Evergreen Lake House from 5pm-7pm. Curling games will be pick up style and take place on the Rinky Dink Rink. 2 drink tickets/registration provided!
LOCATION:Evergreen Lake
UID:e.298.98871
SEQUENCE:3
DTSTAMP:20260423T212529Z
URL:https://members.evergreenchamber.org/events/details/curling-cocktails-98871
END:VEVENT

END:VCALENDAR
