BEGIN:VCALENDAR
VERSION:2.0
PRODID:-//ChamberMaster//Event Calendar 2.0//EN
METHOD:PUBLISH
X-PUBLISHED-TTL:P3D
REFRESH-INTERVAL:P3D
CALSCALE:GREGORIAN
BEGIN:VEVENT
DTSTART:20210813T230000Z
DTEND:20210814T020000Z
X-MICROSOFT-CDO-ALLDAYEVENT:FALSE
SUMMARY:Craig Hauenstein Live at The Wild Game Evergreen
DESCRIPTION:Classic Rock n Roll with Craig Hauenstein! No cover.
X-ALT-DESC;FMTTYPE=text/html:Classic Rock n Roll with Craig Hauenstein! No cover.
LOCATION:The Wild Game - Evergreen 1204 BERGEN PARKWAY EVERGREEN\, CO 80439
UID:e.298.84369
SEQUENCE:3
DTSTAMP:20260425T014754Z
URL:https://members.evergreenchamber.org/events/details/craig-hauenstein-live-at-the-wild-game-evergreen-84369
END:VEVENT

END:VCALENDAR
