BEGIN:VCALENDAR
VERSION:2.0
PRODID:-//ChamberMaster//Event Calendar 2.0//EN
METHOD:PUBLISH
X-PUBLISHED-TTL:P3D
REFRESH-INTERVAL:P3D
CALSCALE:GREGORIAN
BEGIN:VEVENT
DTSTART:20251119T003000Z
DTEND:20251119T023000Z
X-MICROSOFT-CDO-ALLDAYEVENT:FALSE
SUMMARY:Cozy Hands & Thankful Hearts
DESCRIPTION:Let's gather for a simple\, cozy evening of crafting\, connection\, and comfort. \n\nBring your favorite project   knitting\, journaling\, painting\, scrapbooking\, or anything creative   and enjoy the warmth of good company\, fall snacks\, and one feel-good autumn movie.\n\nWe'll relax\, sip something warm\, and settle into the season together.\n\nWhat to Bring:\n\n\n	\n	Your craft project (anything easy to work on while chatting)\n	\n	\n	A cozy sweater or blanket\n	\n	\n	Optional: a small treat to share\n	\n\n\nMovie: We'll pick one from the cozy fall favorites list below (vote in the comments!)\n\nFall Movie Options\n\n\n	\n	When Harry Met Sally (1989)   witty\, romantic\, and full of golden fall colors and comfort.\n	\n	\n	Good Will Hunting (1997)   heartfelt\, brilliant\, and deeply human   with Boston's crisp autumn as a backdrop.\n	\n	\n	Planes\, Trains & Automobiles (1987)   Thanksgiving humor and heart\; a true cozy classic.\n	\n	\n	The Blind Side (2009)   warm\, uplifting\, and family-centered   perfect for a gratitude-themed night.\n	\n	\n	Practical Magic (1998)   a touch of cozy witchy charm\, sisterhood\, and late-autumn magic.\n	\n\n\n(We'll vote on which one to watch before at the start of the event!)
X-ALT-DESC;FMTTYPE=text/html:<p>Let&rsquo\;s gather for a simple\, cozy evening of crafting\, connection\, and comfort.&nbsp\;</p>\n\n<p>Bring your favorite project &mdash\; knitting\, journaling\, painting\, scrapbooking\, or anything creative &mdash\; and enjoy the warmth of good company\, fall snacks\, and one feel-good autumn movie.</p>\n\n<p>We&rsquo\;ll relax\, sip something warm\, and settle into the season together.</p>\n\n<p><strong>What to Bring:</strong></p>\n\n<ul>\n	<li>\n	<p>Your craft project (anything easy to work on while chatting)</p>\n	</li>\n	<li>\n	<p>A cozy sweater or blanket</p>\n	</li>\n	<li>\n	<p>Optional: a small treat to share</p>\n	</li>\n</ul>\n\n<p><strong>Movie:</strong> We&rsquo\;ll pick one from the cozy fall favorites list below (vote in the comments!)</p>\n\n<h3><strong>Fall Movie Options</strong></h3>\n\n<ol start="1">\n	<li>\n	<p><strong>When Harry Met Sally (1989)</strong> &mdash\; witty\, romantic\, and full of golden fall colors and comfort.</p>\n	</li>\n	<li>\n	<p><strong>Good Will Hunting (1997)</strong> &mdash\; heartfelt\, brilliant\, and deeply human &mdash\; with Boston&rsquo\;s crisp autumn as a backdrop.</p>\n	</li>\n	<li>\n	<p><strong>Planes\, Trains &amp\; Automobiles (1987)</strong> &mdash\; Thanksgiving humor and heart\; a true cozy classic.</p>\n	</li>\n	<li>\n	<p><strong>The Blind Side (2009)</strong> &mdash\; warm\, uplifting\, and family-centered &mdash\; perfect for a gratitude-themed night.</p>\n	</li>\n	<li>\n	<p><strong>Practical Magic (1998)</strong> &mdash\; a touch of cozy witchy charm\, sisterhood\, and late-autumn magic.</p>\n	</li>\n</ol>\n\n<p>(<em>We&rsquo\;ll vote on which one to watch before at the start of the event!</em>)</p>\n
LOCATION:Parking is limited to 6 spaces. Carpool encouraged. RSVP on Meetup preferred: https://www.meetup.com/mountain-transformation-venue-and-events-meetup-group/events/311643014/
UID:e.298.103972
SEQUENCE:3
DTSTAMP:20260419T230729Z
URL:https://members.evergreenchamber.org/events/details/cozy-hands-thankful-hearts-11-18-2025-103972
END:VEVENT

END:VCALENDAR
