BEGIN:VCALENDAR
VERSION:2.0
PRODID:-//ChamberMaster//Event Calendar 2.0//EN
METHOD:PUBLISH
X-PUBLISHED-TTL:P3D
REFRESH-INTERVAL:P3D
CALSCALE:GREGORIAN
BEGIN:VEVENT
DTSTART:20220515T210000Z
DTEND:20220515T231500Z
X-MICROSOFT-CDO-ALLDAYEVENT:FALSE
SUMMARY:COVID (comedy) RELIEF at Congregation Beth Evergreen: Laughter for the entire mountain community!
DESCRIPTION:Jessica Kirson\, award-winning comedian\n\nSunday\, May 15\, at 3:00 p.m.\n\nCongregation Beth Evergreen\, 2981 Bergen Peak Drive\, Evergreen\n\nEVERGREEN\, COLO.\, April 28\, 2022 -- We could all use some laughter these days!! And Congregation Beth Evergreen has just the ticket. The entire mountain community is invited to the COVID (comedy) RELIEF fundraiser with New York's Jessica Kirson on Sunday\, May 15\, at 3:00 p.m. Tickets are $36/individual\, $50/couple\, and $180/mensch!! This includes wine\, beer\, and light refreshments. Please register here [https://www.bethevergreen.org/form/covidcomedy]. Childcare provided at no charge!
X-ALT-DESC;FMTTYPE=text/html:<strong><span style="color:black\;"><span style="font-size:14pt\;">Jessica Kirson\, award-winning comedian</span></span></strong><br />\n<strong><span style="color:black\;"><span style="font-size:14pt\;">Sunday\, May 15\, at 3:00 p.m.</span></span></strong><br />\n<strong><span style="color:black\;"><span style="font-size:14pt\;">Congregation Beth Evergreen\, 2981 Bergen Peak Drive\, Evergreen</span></span></strong><br />\n<b style="color: rgb(34\, 34\, 34)\; font-family: Arial\, Helvetica\, sans-serif\; font-size: small\;"><span style="font-size: 14pt\; line-height: 22.4px\; color: black\;">EVERGREEN\, COLO.\, April 28\, 2022</span></b><span style="font-family: Arial\, Helvetica\, sans-serif\; font-size: 14pt\; line-height: 22.4px\; color: black\;">&nbsp\;-- We could all use some laughter these days!! And Congregation Beth Evergreen has just the ticket. The entire mountain community is invited to the&nbsp\;<b>COVID (comedy) RELIEF</b>&nbsp\;fundraiser with New York&rsquo\;s Jessica Kirson on&nbsp\;</span><b style="color: rgb(34\, 34\, 34)\; font-family: Arial\, Helvetica\, sans-serif\; font-size: small\;"><span style="font-size: 14pt\; line-height: 22.4px\; color: rgb(47\, 85\, 151)\;">Sunday\, May 15\, at 3:00 p.m.</span></b><span style="font-family: Arial\, Helvetica\, sans-serif\; font-size: 14pt\; line-height: 22.4px\; color: black\;">&nbsp\;Tickets are $36/individual\, $50/couple\, and $180/mensch!! This includes wine\, beer\, and light refreshments.&nbsp\;<a name="m_-4079128905988333958_m_-4761037270482167952__Hlk101969291" style="color: rgb(34\, 34\, 34)\;">Please&nbsp\;</a></span><a data-saferedirecturl="https://www.google.com/url?q=https://www.bethevergreen.org/event/covid-comedy-relief-fundraiser.html&amp\;source=gmail&amp\;ust=1651259538725000&amp\;usg=AOvVaw3xD_giM39YZIvjtfvgkdy_" href="https://www.bethevergreen.org/event/covid-comedy-relief-fundraiser.html" style="color: rgb(17\, 85\, 204)\; font-family: Arial\, Helvetica\, sans-serif\; font-size: small\;" target="_blank"><span style="font-size: 14pt\; line-height: 22.4px\;">register here</span></a><span style="color: rgb(34\, 34\, 34)\; font-family: Arial\, Helvetica\, sans-serif\; font-size: small\;"><span style="font-size: 14pt\; line-height: 22.4px\; color: black\;">&nbsp\;[<a data-saferedirecturl="https://www.google.com/url?q=https://www.bethevergreen.org/form/covidcomedy&amp\;source=gmail&amp\;ust=1651259538725000&amp\;usg=AOvVaw2QuuHmvql5BiHkFD2UBGPg" href="https://www.bethevergreen.org/form/covidcomedy" style="color: rgb(17\, 85\, 204)\;" target="_blank">https://www.bethevergreen.<wbr />org/form/covidcomedy</a>].&nbsp\;<i>Childcare provided at no charge!</i></span></span><br />\n&nbsp\;
LOCATION:Congregation Beth Evergreen\, 2981 Bergen Peak Drive\, Evergreen
UID:e.298.87432
SEQUENCE:3
DTSTAMP:20260424T113106Z
URL:https://members.evergreenchamber.org/events/details/covid-comedy-relief-at-congregation-beth-evergreen-laughter-for-the-entire-mountain-community-87432
END:VEVENT

END:VCALENDAR
