BEGIN:VCALENDAR
VERSION:2.0
PRODID:-//ChamberMaster//Event Calendar 2.0//EN
METHOD:PUBLISH
X-PUBLISHED-TTL:P3D
REFRESH-INTERVAL:P3D
CALSCALE:GREGORIAN
BEGIN:VEVENT
DTSTART:20251014T223000Z
DTEND:20251014T233000Z
X-MICROSOFT-CDO-ALLDAYEVENT:FALSE
SUMMARY:Connections & Cocktails - Origin Hotel Red Rocks
DESCRIPTION:Connections & Cocktails
X-ALT-DESC;FMTTYPE=text/html:Connections &amp\; Cocktails
LOCATION:Origin Hotel Red Rocks 18485 W Colfax Golden\, CO 80401
UID:e.298.99521
SEQUENCE:3
DTSTAMP:20260420T002406Z
URL:https://members.evergreenchamber.org/events/details/connections-cocktails-origin-hotel-red-rocks-99521
END:VEVENT

END:VCALENDAR
