BEGIN:VCALENDAR
VERSION:2.0
PRODID:-//ChamberMaster//Event Calendar 2.0//EN
METHOD:PUBLISH
X-PUBLISHED-TTL:P3D
REFRESH-INTERVAL:P3D
CALSCALE:GREGORIAN
BEGIN:VEVENT
DTSTART:20240716T223000Z
DTEND:20240716T233000Z
X-MICROSOFT-CDO-ALLDAYEVENT:FALSE
SUMMARY:Connections & Cocktails - Beau Jo's Colorado Style Pizza
DESCRIPTION:Connections & Cocktails \n\nJoin new Members\, ambassadors and seasoned members alike to network in a casual setting.
X-ALT-DESC;FMTTYPE=text/html:<span style="color: rgb(51\, 51\, 51)\; font-size: 13px\; font-family: arial\;"><strong>Connections &amp\; Cocktails&nbsp\;</strong></span><br />\n<span style="color: rgb(51\, 51\, 51)\; font-family: sans-serif\, Arial\, Verdana\, &quot\;Trebuchet MS&quot\;\; font-size: 13px\; background-color: rgb(255\, 255\, 255)\;">Join new Members\, ambassadors and seasoned members alike to network in a casual setting.&nbsp\;</span><br />\n&nbsp\;
LOCATION:Beau Jo's Colorado Style Pizza 28186 Hwy 74\, Unit #3 Evergreen\, CO
UID:e.298.92715
SEQUENCE:3
DTSTAMP:20260426T011515Z
URL:https://members.evergreenchamber.org/events/details/connections-cocktails-beau-jo-s-colorado-style-pizza-92715
END:VEVENT

END:VCALENDAR
