BEGIN:VCALENDAR
VERSION:2.0
PRODID:-//ChamberMaster//Event Calendar 2.0//EN
METHOD:PUBLISH
X-PUBLISHED-TTL:P3D
REFRESH-INTERVAL:P3D
CALSCALE:GREGORIAN
BEGIN:VEVENT
DTSTART:20240907T000000Z
DTEND:20240907T030000Z
X-MICROSOFT-CDO-ALLDAYEVENT:FALSE
SUMMARY:Congregation Beth Evergreen Celebrates 50 Years of Spiritual Growth and Community
DESCRIPTION:Commemorative "Shabbaton Weekend Celebration" takes place on Sept. 6-8\, all are welcome \n\n\n\nEVERGREEN\, Colo.\, Aug. 13\, 2024   Congregation Beth Evergreen\, a beloved spiritual home for the mountain-area community and an integral part of Denver's Jewish landscape\, is commemorating its 50th anniversary. Founded in 1974 as a small gathering of families\, the synagogue has flourished into a welcoming and thriving center for joyful worship\, meaningful education for all ages\, and a hub for interfaith collaborations such as the creation of the Evergreen Shelter Program.
X-ALT-DESC;FMTTYPE=text/html:<span class="m_-7017029373430880174normaltextrun" style="color: rgb(34\, 34\, 34)\; font-family: &quot\;Times New Roman&quot\;\, serif\; font-size: 16px\; text-align: center\; white-space-collapse: preserve\; background-color: rgb(255\, 255\, 255)\;"><i><span style="font-size: 14pt\; font-family: Calibri\, sans-serif\;">Commemorative &ldquo\;Shabbaton Weekend Celebration&rdquo\; takes place on Sept. 6-8\, all are welcome</span></i></span><span class="m_-7017029373430880174eop" style="color: rgb(34\, 34\, 34)\; font-family: &quot\;Times New Roman&quot\;\, serif\; font-size: 16px\; text-align: center\; white-space-collapse: preserve\; background-color: rgb(255\, 255\, 255)\;"><span style="font-size: 14pt\; font-family: Calibri\, sans-serif\;">&nbsp\;</span></span><br />\n<br />\n<span class="m_-7017029373430880174normaltextrun" style="color: rgb(34\, 34\, 34)\; font-family: &quot\;Times New Roman&quot\;\, serif\; font-size: 16px\; white-space-collapse: preserve\; background-color: rgb(255\, 255\, 255)\;"><b><span style="font-family: Calibri\, sans-serif\;">EVERGREEN\, Colo.</span></b></span><b style="color: rgb(34\, 34\, 34)\; font-family: &quot\;Times New Roman&quot\;\, serif\; font-size: 16px\; white-space-collapse: preserve\; background-color: rgb(255\, 255\, 255)\;"><span style="font-family: Calibri\, sans-serif\;">\, Aug. 13\, 2024</span></b><span class="m_-7017029373430880174normaltextrun" style="color: rgb(34\, 34\, 34)\; font-family: &quot\;Times New Roman&quot\;\, serif\; font-size: 16px\; white-space-collapse: preserve\; background-color: rgb(255\, 255\, 255)\;"><span style="font-family: Calibri\, sans-serif\;"> &ndash\; </span></span><span style="color: rgb(34\, 34\, 34)\; font-size: 16px\; white-space-collapse: preserve\; background-color: rgb(255\, 255\, 255)\; font-family: Calibri\, sans-serif\;"><a data-saferedirecturl="https://www.google.com/url?q=http://www.bethevergreen.org/&amp\;source=gmail&amp\;ust=1723649126194000&amp\;usg=AOvVaw3amHqfAvmCAag54jtC_xiv" href="http://www.bethevergreen.org/" style="color: rgb(17\, 85\, 204)\;" target="_blank"><span class="m_-7017029373430880174normaltextrun"><span style="color: blue\; text-decoration-line: none\;">Co</span></span><span class="m_-7017029373430880174normaltextrun"><span style="color: blue\;">ngregation Beth Evergreen</span></span></a><span class="m_-7017029373430880174normaltextrun">\, a beloved spiritual home for the mountain-area community and an integral part of Denver&rsquo\;s Jewish landscape\, is commemorating its 50th </span>anniversary. Founded in 1974 as a small gathering of families\, the synagogue has flourished into a welcoming and thriving center for joyful worship\, meaningful education for all ages\, and a hub for interfaith collaborations such as the creation of the Evergreen Shelter Program.<span class="m_-7017029373430880174eop">&nbsp\;</span></span>
LOCATION:Congregation Beth Evergreen 2981 Bergen Peak Dr Evergreen\, CO
UID:e.298.94009
SEQUENCE:3
DTSTAMP:20260422T195718Z
URL:https://members.evergreenchamber.org/events/details/congregation-beth-evergreen-celebrates-50-years-of-spiritual-growth-and-community-94009
END:VEVENT

END:VCALENDAR
