BEGIN:VCALENDAR
VERSION:2.0
PRODID:-//ChamberMaster//Event Calendar 2.0//EN
METHOD:PUBLISH
X-PUBLISHED-TTL:P3D
REFRESH-INTERVAL:P3D
CALSCALE:GREGORIAN
BEGIN:VEVENT
DTSTART:20240908T190000Z
DTEND:20240908T220000Z
X-MICROSOFT-CDO-ALLDAYEVENT:FALSE
SUMMARY:Congregation Beth Evergreen - 50th Anniversary Family Carnival
DESCRIPTION:Congregation Beth Evergreen celebrates 50 years! \n\n\n\n\n\nEVERGREEN\, Colo.\, Aug. 13\, 2024   Congregation Beth Evergreen\, a beloved spiritual home for the mountain-area community and an integral part of Denver's Jewish landscape\, is commemorating its 50th anniversary. Founded in 1974 as a small gathering of families\, the synagogue has flourished into a welcoming and thriving center for joyful worship\, meaningful education for all ages\, and a hub for interfaith collaborations such as the creation of the Evergreen Shelter Program. \nAbout Beth Evergreen \n\nEstablished in 1974\, Beth Evergreen is a member of the Jewish Reconstructionist Federation and respects and fosters inclusive Judaism. Jews from a wide variety of backgrounds\, including Conservative\, Reconstructionist\, Reform and Interfaith families can enjoy the experiences of religious school\, Sabbath\, holiday services\, celebrations\, and life-cycle events. Located in the mountains of Evergreen and set peacefully next to Elk Meadow\, this almost-50-year-old organization opened the doors to its new synagogue building in 2003.  And since 2005\, CBE has nearly doubled in size (more than 200 households) and scope in partnership with its beloved\, long-term rabbi\, Jamie Arnold.  For more information\, please visit www.bethevergreen.org.
X-ALT-DESC;FMTTYPE=text/html:Congregation Beth Evergreen celebrates 50 years!&nbsp\;<br />\n<br />\n<br />\n<span class="m_-7017029373430880174normaltextrun" style="color: rgb(34\, 34\, 34)\; font-family: &quot\;Times New Roman&quot\;\, serif\; font-size: 16px\; white-space-collapse: preserve\; background-color: rgb(255\, 255\, 255)\;"><b><span style="font-family: Calibri\, sans-serif\;">EVERGREEN\, Colo.</span></b></span><b style="color: rgb(34\, 34\, 34)\; font-family: &quot\;Times New Roman&quot\;\, serif\; font-size: 16px\; white-space-collapse: preserve\; background-color: rgb(255\, 255\, 255)\;"><span style="font-family: Calibri\, sans-serif\;">\, Aug. 13\, 2024</span></b><span class="m_-7017029373430880174normaltextrun" style="color: rgb(34\, 34\, 34)\; font-family: &quot\;Times New Roman&quot\;\, serif\; font-size: 16px\; white-space-collapse: preserve\; background-color: rgb(255\, 255\, 255)\;"><span style="font-family: Calibri\, sans-serif\;"> &ndash\; </span></span><span style="color: rgb(34\, 34\, 34)\; font-size: 16px\; white-space-collapse: preserve\; background-color: rgb(255\, 255\, 255)\; font-family: Calibri\, sans-serif\;"><a data-saferedirecturl="https://www.google.com/url?q=http://www.bethevergreen.org/&amp\;source=gmail&amp\;ust=1723649126194000&amp\;usg=AOvVaw3amHqfAvmCAag54jtC_xiv" href="http://www.bethevergreen.org/" style="color: rgb(17\, 85\, 204)\;" target="_blank"><span class="m_-7017029373430880174normaltextrun"><span style="color: blue\; text-decoration-line: none\;">Co</span></span><span class="m_-7017029373430880174normaltextrun"><span style="color: blue\;">ngregation Beth Evergreen</span></span></a><span class="m_-7017029373430880174normaltextrun">\, a beloved spiritual home for the mountain-area community and an integral part of Denver&rsquo\;s Jewish landscape\, is commemorating its 50th </span>anniversary. Founded in 1974 as a small gathering of families\, the synagogue has flourished into a welcoming and thriving center for joyful worship\, meaningful education for all ages\, and a hub for interfaith collaborations such as the creation of the Evergreen Shelter Program.<span class="m_-7017029373430880174eop">&nbsp\;</span></span>\n<p class="m_-7017029373430880174paragraph" style="margin: 0in\; font-size: 12pt\; font-family: &quot\;Times New Roman&quot\;\, serif\; color: rgb(34\, 34\, 34)\; white-space-collapse: preserve\; background-color: rgb(255\, 255\, 255)\; vertical-align: baseline\; font-kerning: none\;"><span class="m_-7017029373430880174normaltextrun"><b><span style="font-family: Calibri\, sans-serif\;">About Beth Evergreen</span></b></span><span class="m_-7017029373430880174eop"><span style="font-family: Calibri\, sans-serif\;">&nbsp\;</span></span></p>\n\n<p class="m_-7017029373430880174paragraph" style="margin: 0in\; font-size: 12pt\; font-family: &quot\;Times New Roman&quot\;\, serif\; color: rgb(34\, 34\, 34)\; white-space-collapse: preserve\; background-color: rgb(255\, 255\, 255)\; vertical-align: baseline\; font-kerning: none\;"><span class="m_-7017029373430880174normaltextrun"><span style="font-family: Calibri\, sans-serif\; color: black\;">Established in 1974\, Beth Evergreen is a member of the Jewish Reconstructionist Federation and respects and fosters inclusive Judaism.&#8239\;Jews from a wide variety of backgrounds\, including Conservative\, Reconstructionist\, Reform and Interfaith families can enjoy the experiences of religious school\, Sabbath\, holiday services\, </span></span><span class="m_-7017029373430880174normaltextrun"><span style="font-family: Calibri\, sans-serif\;">celebrations\, and life-cycle events. Located in the mountains of Evergreen and set peacefully next to Elk Meadow\, this almost-50-year-old organization opened the doors to its new synagogue building in 2003.&#8239\; And since 2005\, CBE has nearly doubled in size (more than 200 households) and scope in partnership with its beloved\, long-term rabbi\, Jamie Arnold.&#8239\;&#8239\;For more information\, please visit </span></span><span style="font-family: Calibri\, sans-serif\;"><a data-saferedirecturl="https://www.google.com/url?q=http://www.bethevergreen.org/&amp\;source=gmail&amp\;ust=1723649126194000&amp\;usg=AOvVaw3amHqfAvmCAag54jtC_xiv" href="http://www.bethevergreen.org/" style="color: rgb(17\, 85\, 204)\;" target="_blank"><span class="m_-7017029373430880174normaltextrun"><span style="color: blue\; text-decoration-line: none\;">www.bethevergreen.org</span></span></a><span class="m_-7017029373430880174normaltextrun"><span style="color: black\;">.</span></span><span class="m_-7017029373430880174eop"><span style="color: black\;">&nbsp\;</span></span></span></p>\n
LOCATION:Congregation Beth Evergreen 2981 Bergen Peak Dr. Evergreen\, CO
UID:e.298.94008
SEQUENCE:3
DTSTAMP:20260422T194723Z
URL:https://members.evergreenchamber.org/events/details/congregation-beth-evergreen-50th-anniversary-family-carnival-94008
END:VEVENT

END:VCALENDAR
