BEGIN:VCALENDAR
VERSION:2.0
PRODID:-//ChamberMaster//Event Calendar 2.0//EN
METHOD:PUBLISH
X-PUBLISHED-TTL:P3D
REFRESH-INTERVAL:P3D
CALSCALE:GREGORIAN
BEGIN:VEVENT
DTSTART:20251115T173000Z
DTEND:20251115T180000Z
X-MICROSOFT-CDO-ALLDAYEVENT:FALSE
SUMMARY:Coffee with Arf
DESCRIPTION:Grab a coffee and come meet Arf\, Evergreen's very own robot dog!\n\nArf walks\, plays\, and brings robotics and AI to life in a way kids (and adults) can't get enough of. Bring the family\, grab a drink\, and get an up-close look at how modern robotics works in a fun\, friendly setting.\n\nThis is a casual drop-in event perfect for:\n\n\n	\n	Kids & families\n	\n	\n	Tech-curious adults\n	\n	\n	Anyone who wants to see robotics in action\n	\n\n\nWe'll also be sharing a bit about our new AI+Robotics learning experiences for kids here in the foothills\, but mostly\, just come enjoy the morning and say hi!
X-ALT-DESC;FMTTYPE=text/html:<div>\n<p><strong>Grab a coffee and come meet Arf\, Evergreen&rsquo\;s very own robot dog!</strong></p>\n\n<p>Arf walks\, plays\, and brings robotics and AI to life in a way kids (and adults) can&rsquo\;t get enough of. Bring the family\, grab a drink\, and get an up-close look at how modern robotics works in a fun\, friendly setting.</p>\n\n<p>This is a casual drop-in event perfect for:</p>\n\n<ul>\n	<li>\n	<p>Kids &amp\; families</p>\n	</li>\n	<li>\n	<p>Tech-curious adults</p>\n	</li>\n	<li>\n	<p>Anyone who wants to see robotics in action</p>\n	</li>\n</ul>\n\n<p>We&rsquo\;ll also be sharing a bit about our new AI+Robotics learning experiences for kids here in the foothills\, but mostly\, just come enjoy the morning and say hi!</p>\n</div>\n
LOCATION:Java Groove Coffee Shop 28186 CO-74 #1 Evergreen\, CO 80439 Parking: Free street parking is available along Main Street. Additional paid parking is available in the nearby lot using the Honk mobile app (first 15 minutes free).
UID:e.298.104027
SEQUENCE:3
DTSTAMP:20260420T061226Z
URL:https://members.evergreenchamber.org/events/details/coffee-with-arf-104027
END:VEVENT

END:VCALENDAR
