BEGIN:VCALENDAR
VERSION:2.0
PRODID:-//ChamberMaster//Event Calendar 2.0//EN
METHOD:PUBLISH
X-PUBLISHED-TTL:P3D
REFRESH-INTERVAL:P3D
CALSCALE:GREGORIAN
BEGIN:VEVENT
DTSTART:20211024T210000Z
DTEND:20211025T003000Z
X-MICROSOFT-CDO-ALLDAYEVENT:FALSE
SUMMARY:Cody Ray Slaughter: Elvis Memories and More!
DESCRIPTION:ELVIS MEMORIES and MORE!\n\nStarring Cody Ray Slaughter with the David Fontana Band\n\n \n\nBack by popular demand\, Cody Ray Slaughter returns to the Lakewood Cultural Center for three shows. Cody\, an extremely talented performer and Elvis Tribute Artist\, will be rockin' the house! Cody's uncanny portrayal of Elvis Presley has won him fans worldwide. He returns to Lakewood following his 2015\, 2016\, 2017\, 2018 and 2019 performances and his Denver appearance in the Tony award-winning Broadway musical\, The Million Dollar Quartet\, which was also nominated for best musical. He was a featured musical guest on the Late Show with David Letterman. In 2011\, he was named "Ultimate Elvis Tribute Artist" by Elvis Presley Enterprises. His incredible voice\, moves\, charisma and looks will make for an unforgettable performance again! Some new songs will be added as well as the favorites everyone loves. For more information on Cody\, go to www.codyrayslaughter.com\, or find his videos on YouTube. \n\n \n\nIf COVID restrictions allow\, Cody and band members will be available at a "Meet & Greet" for photos\, autographs and merchandise after the concerts.\n\n \n\nAll proceeds go to Mount Evans Home Health Care & Hospice in Evergreen which provides home health care\, palliative care\, hospice\, bereavement assistance\, Camp Comfort for children who have lost a loved one\, as well as emotional and spiritual needs assistance.\n\n \n\nWe are grateful to Cody Ray Slaughter\, for returning to Colorado on October 22\, 23\, and 24\, 2021 headlining concerts to benefit Mount Evans Home Health Care & Hospice.
X-ALT-DESC;FMTTYPE=text/html:<strong><span style="font-family:arial\,sans-serif"><span style="font-size:10.0pt">ELVIS MEMORIES and MORE!</span></span><br />\n<span style="font-family:arial\,sans-serif"><span style="font-size:10.0pt">Starring Cody Ray Slaughter with the David Fontana Band</span></span></strong><br />\n&nbsp\;<br />\n<span style="font-family:arial\,sans-serif"><span style="font-size:10.0pt">Back by popular demand\, Cody Ray Slaughter returns to the Lakewood Cultural Center for three shows. Cody\, an extremely talented performer and Elvis Tribute Artist\, will be rockin&rsquo\; the house! Cody&rsquo\;s uncanny portrayal of Elvis Presley has won him fans worldwide. He returns to Lakewood following his 2015\, 2016\, 2017\, 2018 and 2019 performances and his Denver appearance in the Tony award-winning Broadway musical\, <em>The Million Dollar Quartet</em>\, which was also nominated for best musical. He was a featured musical guest on the <em>Late Show with David Letterman</em>. In 2011\, he was named &ldquo\;Ultimate Elvis Tribute Artist&rdquo\; by Elvis Presley Enterprises. His incredible voice\, moves\, charisma and looks will make for an unforgettable performance again! Some new songs will be added as well as the favorites everyone loves. For more information on Cody\, go to <a href="http://www.codyrayslaughter.com" target="_blank">www.codyrayslaughter.com</a>\, or find his videos on YouTube. </span></span><br />\n&nbsp\;<br />\n<span style="font-family:arial\,sans-serif"><span style="font-size:10.0pt">If COVID restrictions allow\, Cody and band members will be available at a &ldquo\;Meet &amp\; Greet&rdquo\; for photos\, autographs and merchandise after the concerts.</span></span><br />\n&nbsp\;<br />\n<span style="font-family:arial\,sans-serif"><span style="font-size:10.0pt">All proceeds go to Mount Evans Home Health Care &amp\; Hospice in Evergreen which provides home health care\, palliative care\, hospice\, bereavement assistance\, Camp Comfort for children who have lost a loved one\, as well as emotional and spiritual needs assistance.</span></span><br />\n&nbsp\;<br />\n<span style="font-family:arial\,sans-serif"><span style="font-size:10.0pt">We are grateful to Cody Ray Slaughter\, for returning to Colorado on October 22\, 23\, and 24\, 2021 headlining concerts to benefit Mount Evans Home Health Care &amp\; Hospice.</span></span><br />\n&nbsp\;
LOCATION:Lakewood Cultural Center 470 South Allison Parkway\, Lakewood\, Colorado 80226 303-987-7845 https://lakewood.showare.com/eventperformances.asp?evt=556
UID:e.298.83095
SEQUENCE:3
DTSTAMP:20260420T125727Z
URL:https://members.evergreenchamber.org/events/details/cody-ray-slaughter-elvis-tribute-artist-live-83095
END:VEVENT

END:VCALENDAR
