BEGIN:VCALENDAR
VERSION:2.0
PRODID:-//ChamberMaster//Event Calendar 2.0//EN
METHOD:PUBLISH
X-PUBLISHED-TTL:P3D
REFRESH-INTERVAL:P3D
CALSCALE:GREGORIAN
BEGIN:VEVENT
DTSTART:20250622T190000Z
DTEND:20250622T210000Z
X-MICROSOFT-CDO-ALLDAYEVENT:FALSE
SUMMARY:CHSM Event: History Thru Postcards
DESCRIPTION:Learn how vintage postcards give us little known views of our favorite locations\, with snapshots in time and real life stories from the senders. You'll also view Conifer Historical Society's personal collection of foothills postcards. Vintage postcards are more than pictures of vacation destinations - they're snapshots in time\, feature real life stories from the senders\, and have changed over time. And they give us little known views of our favorite foothills locations. Dede Horan of Postcards n More will share her knowledge of how postcards started\, how they evolved\, and how to find your own personal treasure that's connects with your past. The Conifer Historical Society will share their personal collection of postcards of our area: Conifer\, Bailey\, Deckers\, Tiny Town\, Evergreen and beyond!
X-ALT-DESC;FMTTYPE=text/html:Learn how vintage postcards give us little known views of our favorite locations\, with snapshots in time and real life stories from the senders. You&#39\;ll also view Conifer Historical Society&#39\;s personal collection of foothills postcards. Vintage postcards are more than pictures of vacation destinations - they&#39\;re snapshots in time\, feature real life stories from the senders\, and have changed over time. And they give us little known views of our favorite foothills locations. Dede Horan of Postcards n More will share her knowledge of how postcards started\, how they evolved\, and how to find your own personal treasure that&#39\;s connects with your past. The Conifer Historical Society will share their personal collection of postcards of our area: Conifer\, Bailey\, Deckers\, Tiny Town\, Evergreen and beyond!
LOCATION:Conifer Historical Society & Museum Little White Schoolhouse 26951 Barkley Rd\, Conifer\, CO 80433
UID:e.298.98408
SEQUENCE:3
DTSTAMP:20260420T063530Z
URL:https://members.evergreenchamber.org/events/details/chsm-event-history-thru-postcards-98408
END:VEVENT

END:VCALENDAR
