BEGIN:VCALENDAR
VERSION:2.0
PRODID:-//ChamberMaster//Event Calendar 2.0//EN
METHOD:PUBLISH
X-PUBLISHED-TTL:P3D
REFRESH-INTERVAL:P3D
CALSCALE:GREGORIAN
BEGIN:VEVENT
DTSTART:20251231T013000Z
DTEND:20251231T030000Z
X-MICROSOFT-CDO-ALLDAYEVENT:FALSE
SUMMARY:CHSM Book Club: Watili\, The Native American Slave Heroine
DESCRIPTION:This free virtual book club hosted by Conifer Historical Society features "Watili: The Native American Slave Heroine" about the harrowing tale of Watili\, a young native American women who is kidnapped by Apache slavers and sold as a domestic servant to a Spanish cartographer-map maker. Her courageous trek for freedom after she enters a world beyond her imaginings and crosses the rolling plains and towering plateaus of the West to freedom. She and her companions find themselves facing the truth about the Oneness of Spirituality that binds them in life\, and are forced to learn from each other to adapt in a quickly changing world. Secrets are revealed\, truths unveiled\, and strife arises as this trio of travelers makes their way not only across the geography of the land\, but also the geography of their own private beliefs and viewpoints.
X-ALT-DESC;FMTTYPE=text/html:This free virtual book club hosted by Conifer Historical Society features &quot\;Watili: The Native American Slave Heroine&quot\; about the harrowing tale of Watili\, a young native American women who is kidnapped by Apache slavers and sold as a domestic servant to a Spanish cartographer-map maker. Her courageous trek for freedom after she enters a world beyond her imaginings and crosses the rolling plains and towering plateaus of the West to freedom. She and her companions find themselves facing the truth about the Oneness of Spirituality that binds them in life\, and are forced to learn from each other to adapt in a quickly changing world. Secrets are revealed\, truths unveiled\, and strife arises as this trio of travelers makes their way not only across the geography of the land\, but also the geography of their own private beliefs and viewpoints.
LOCATION:Virtual
UID:e.298.98264
SEQUENCE:3
DTSTAMP:20260419T211209Z
URL:https://members.evergreenchamber.org/events/details/chsm-book-club-watili-the-native-american-slave-heroine-98264
END:VEVENT

END:VCALENDAR
