BEGIN:VCALENDAR
VERSION:2.0
PRODID:-//ChamberMaster//Event Calendar 2.0//EN
METHOD:PUBLISH
X-PUBLISHED-TTL:P3D
REFRESH-INTERVAL:P3D
CALSCALE:GREGORIAN
BEGIN:VEVENT
DTSTART:20250430T003000Z
DTEND:20250430T020000Z
X-MICROSOFT-CDO-ALLDAYEVENT:FALSE
SUMMARY:CHSM Book Club: Remembering Lucille\, a Virginia Family's Rise From Slavery
DESCRIPTION:This free virtual book club hosted by Conifer Historical Society features "Remembering Lucille: A Virginia Family's Rise From Slavery And A Legend Forged A Mile High." The book depicts the rise of the African American middle class through the historical journey of Lucile Berkeley Buchanan (the first female African American graduate) and her family from slavery in northern Virginia to life in the American West.
X-ALT-DESC;FMTTYPE=text/html:This free virtual book club hosted by Conifer Historical Society features &quot\;Remembering Lucille: A Virginia Family&rsquo\;s Rise From Slavery And A Legend Forged A Mile High.&quot\; The book depicts the rise of the African American middle class through the historical journey of Lucile Berkeley Buchanan (the first female African American graduate) and her family from slavery in northern Virginia to life in the American West.
LOCATION:Virtual
UID:e.298.98261
SEQUENCE:3
DTSTAMP:20260424T105344Z
URL:https://members.evergreenchamber.org/events/details/chsm-book-club-remembering-lucille-a-virginia-family-s-rise-from-slavery-98261
END:VEVENT

END:VCALENDAR
