BEGIN:VCALENDAR
VERSION:2.0
PRODID:-//ChamberMaster//Event Calendar 2.0//EN
METHOD:PUBLISH
X-PUBLISHED-TTL:P3D
REFRESH-INTERVAL:P3D
CALSCALE:GREGORIAN
BEGIN:VEVENT
DTSTART:20250622T190000Z
DTEND:20250622T230000Z
X-MICROSOFT-CDO-ALLDAYEVENT:FALSE
SUMMARY:Chris King Band will be playing at the Little Bear Saloon on Sunday\, June 22\, 1 - 5pm!!!
DESCRIPTION:The Chris King Band will be playing at the Little Bear Saloon\, one of our favorite places\, this Sunday afternoon\, June 22\, from 1:00 PM to 5:00 PM\, the perfect time where everyone can come out and join in on the fun.  Dance to some of your favorite country music\, enjoy a cocktail or 2\, try out some of the new menu items\, all while supporting local bands like ours.  We would really enjoy seeing and celebrating with you since it has been way too long. And please make sure to say hi because we have missed you!\n\nThanks for reading this and for your support!\n\nChris\n\nwww.chriskingband.com
X-ALT-DESC;FMTTYPE=text/html:The Chris King Band will be playing at the Little Bear Saloon\, one of our favorite places\, this Sunday afternoon\, June 22\, from 1:00 PM to 5:00 PM\, the perfect time where everyone can come out and join in on the fun.&nbsp\; Dance to some of your favorite country music\, enjoy a cocktail or 2\, try out some of the new menu items\, all while supporting local bands like ours.&nbsp\; We would really enjoy seeing and celebrating with you since it has been way too long. And please make sure to say hi because we have missed you!<br />\nThanks for reading this and for your support!<br />\nChris<br />\nwww.chriskingband.com&nbsp\;
LOCATION:Little Bear Saloon\, 28075 CO-74\, Evergreen\, CO 80439.
UID:e.298.100191
SEQUENCE:3
DTSTAMP:20260420T063843Z
URL:https://members.evergreenchamber.org/events/details/chris-king-band-will-be-playing-at-the-little-bear-saloon-on-sunday-june-22-1-5pm-100191
END:VEVENT

END:VCALENDAR
