BEGIN:VCALENDAR
VERSION:2.0
PRODID:-//ChamberMaster//Event Calendar 2.0//EN
METHOD:PUBLISH
X-PUBLISHED-TTL:P3D
REFRESH-INTERVAL:P3D
CALSCALE:GREGORIAN
BEGIN:VEVENT
DTSTART:20240302T140000Z
DTEND:20240303T030000Z
X-MICROSOFT-CDO-ALLDAYEVENT:FALSE
SUMMARY:Chill Out
DESCRIPTION:CHILL OUT!  Join the Evergreen Chamber and our partners for our fun filled community event\, March 2nd. \n\n \n\nIt is time to accept our reality\, foothills community...it is cold here in the winter.  And in the dead of winter\, it can be downright frigid! In the spirit of embracing and not complaining\, your Evergreen Chamber is bringing back a day of fun for all on March 2\, 2024. Join us for Chill Out!  Click on event title to register.\n\n\n\nEPRD ICE FISHING TOURNAMENT 7am\n\nInaugural year for this fun addition to our Chill Out Winterfest.  EPRD is running this competitive event with a 7 am check-in.  The temps might be freezing but the competition will be hot.  \n\n\n\nEPRD KIDS ICE FISHING CLINIC 9am-11am \n\nKids can learn the ins and outs of Ice Fishing on our very own Evergreen Lake.  This one hour clinic will take place on the closed skating rinks.  \n\n\n\nMUSHIES CUP -  Lake House 10am \n\nFamily Friendly hilarious competition for all ages on the ice. Teams of 2 or 4 take to the ice to pull\, like a dog sled\, their teammate(s) around an obstacle course without popping their float. \n\n\n\nTOURING SKI RACE - 12pm check-in Lake House \n\nOutbound Mountain Gear is hosting a Touring Ski Race.  Don your split or AT Ski's and complete the course on the Evergreen Lake course.  The course is currently snow packed and running fast.  Don't have the equipment?  Outbound Mtn. Gear will get you outfitted for the race.  Registration will open soon\, follow the link.  \n\n\n\nEVERGREEN AMAZING RACE - 12:30 check-in   \n\nPre-registration required\n\nA race around Evergreen. You don't have to be the fastest\, just the best at completing challenges.  Teams of 4 will get clues that will lead them to the next location.  This is a driving race that is for 21 and older participants.  1 team member is your designated driver. Starts and finishes at the Lake House.   \n\n\n\nAMAZING RACE DOWNTOWN\, Walking Route - 12:30 check-in \n\nPre-Registration Required \n\nOur downtown race will include different challenges at different businesses "downtown".  You will start with your first clue at the Lake House and then proceed through the different challenges on the course.  Walking loop is approx 2.5 miles.  Race finishes at the Lake House.  Family Friendly.\n\n  \n\nWe are capping off Chill Out with a fun night at Evergreen Lake. \n\n\n\nEPRD GLOW SKATE 4:00 - 8:00pm \n\nUnfortunately Mother Nature has been gracing us with some really warm days so we will be unable to host anyone on the ice\, on the night of March 2nd (Mushie's Cup will run as scheduled).  We would love to have you join us for family game night.  \n\n\n\nFAMILY GAME NIGHT 5:00-8:00pm\n\nBINGO and other games will be hosted in the Lake House.  All ages welcome as we offer up fun family games.  Adult and Non-alcoholic beverages will be available and Slife's Devil Dogs will be on site to sell hot dogs\, brats and hamburgers.  Limited tickets available\, don't wait.
X-ALT-DESC;FMTTYPE=text/html:<strong style="font-family: arial\; font-size: 16px\;">CHILL OUT!&nbsp\;&nbsp\;</strong><span style="font-size:16px\;"><span style="font-family:arial\;"><strong>Join the Evergreen Chamber and our partners&nbsp\;for our fun filled community event\, March 2nd.&nbsp\;<br />\n&nbsp\;</strong><br />\nIt is time to accept our reality\, foothills community...it is cold here in the winter.&nbsp\; And in the dead of winter\, it can be downright frigid! In the spirit of embracing and not complaining\, your Evergreen Chamber is bringing back a day of fun for all on March 2\, 2024. Join us for Chill Out!&nbsp\; <u><strong><em>Click on event title to register.</em></strong></u><br />\n<br />\n<strong><a href="https://anc.apm.activecommunities.com/eprd/activity/search/detail/28991?onlineSiteId=0&amp\;from_original_cui=true"><u>EPRD ICE FISHING TOURNAMENT</u></a> 7am</strong><br />\nInaugural year for this fun addition to our Chill Out Winterfest.&nbsp\; EPRD is running this competitive event with a 7 am check-in.&nbsp\; The temps might be freezing but the competition will be hot.&nbsp\;&nbsp\;<br />\n<br />\n<strong><u><a href="https://anc.apm.activecommunities.com/eprd/activity/search/detail/28992?onlineSiteId=0&amp\;from_original_cui=true">EPRD KIDS ICE FISHING CLINIC</a></u> 9am-11am&nbsp\;</strong><br />\nKids can learn the ins and outs of Ice Fishing on our very own Evergreen Lake.&nbsp\; This one hour clinic will take place on the closed skating rinks.&nbsp\;&nbsp\;<br />\n<br />\n<strong><u><a href="https://members.evergreenchamber.org/events/details/mushies-cup-registration-91460">MUSHIES CUP</a></u> -&nbsp\; Lake House 10am&nbsp\;</strong><br />\nFamily Friendly hilarious competition for all ages on the ice. Teams of 2 or 4 take to the ice to pull\, like a dog sled\, their teammate(s) around an obstacle course without popping their float.&nbsp\;<br />\n<br />\n<a href="https://us.bikerentalmanager.com/book.html?shop=outboundmountaingear&amp\;event_ref=Chill%20Out"><u><strong>TOURING SKI RACE</strong></u></a> - 12pm check-in Lake House&nbsp\;<br />\nOutbound Mountain Gear is hosting a Touring Ski Race.&nbsp\; Don your split or AT Ski&#39\;s and complete the course on the Evergreen Lake course.&nbsp\; The course is currently snow packed and running fast.&nbsp\; Don&#39\;t have the equipment?&nbsp\; Outbound Mtn. Gear will get you outfitted for the race.&nbsp\; Registration will open soon\, follow the link.&nbsp\;&nbsp\;</span></span><br />\n<br />\n<span style="font-size:16px\;"><span style="font-family:arial\;"><strong><u><a href="https://members.evergreenchamber.org/events/details/evergreen-amazing-race-original-21-and-up-91461">EVERGREEN AMAZING RACE</a></u> - 12:30 check-in&nbsp\; &nbsp\;<br />\nPre-registration required</strong><br />\nA race around Evergreen. You don&#39\;t have to be the fastest\, just the best at completing challenges.&nbsp\; Teams of 4 will get clues that will lead them to the next location.&nbsp\; This is a driving race that is for 21 and older participants.&nbsp\; 1 team member is your designated driver. Starts and finishes at the Lake House.&nbsp\;&nbsp\;&nbsp\;<br />\n<br />\n<strong><u><a href="https://members.evergreenchamber.org/events/details/amazing-race-downtown-91463">AMAZING RACE DOWNTOWN</a></u>\, Walking Route - 12:30 check-in&nbsp\;<br />\nPre-Registration Required&nbsp\;</strong><br />\nOur downtown race will include different challenges at different businesses &quot\;downtown&quot\;.&nbsp\; You will start with your first clue at the Lake House and then proceed through the different challenges on the course.&nbsp\; Walking loop is approx 2.5 miles.&nbsp\; Race finishes at the Lake House.&nbsp\; Family Friendly.<br />\n&nbsp\;&nbsp\;<br />\nWe are capping off Chill Out with a fun night at Evergreen Lake.&nbsp\;</span></span><br />\n<br />\n<span style="font-family: arial\; font-size: 16px\;"><u><b>EPRD GLOW SKATE</b>&nbsp\;</u>4:00 - 8:00pm&nbsp\;<br />\nUnfortunately Mother Nature has been gracing us with some really warm days so we will be unable to host anyone on the ice\, on the night of March 2nd (Mushie&#39\;s Cup will run as scheduled).&nbsp\; We would love to have you join us for family game night.&nbsp\;&nbsp\;</span><br />\n<br />\n<span style="font-size:16px\;"><span style="font-family:arial\;"><u><a href="https://members.evergreenchamber.org/events/details/family-game-night-91464"><strong>FAMILY GAME NIGHT</strong></a>&nbsp\;</u>5:00-8:00pm<br />\nBINGO and other games will be hosted in the Lake House.&nbsp\; All ages welcome as we offer up fun family games.&nbsp\; Adult and Non-alcoholic beverages will be available and Slife&#39\;s Devil Dogs will be on site to sell hot dogs\, brats and hamburgers.&nbsp\; Limited tickets available\, don&#39\;t wait.&nbsp\;&nbsp\;<br />\n&nbsp\; &nbsp\;</span></span>
LOCATION:Evergreen Lakehouse Multiple Member Businesses throughout Evergreen
UID:e.298.91271
SEQUENCE:3
DTSTAMP:20260423T031147Z
URL:https://members.evergreenchamber.org/events/details/chill-out-91271
END:VEVENT

END:VCALENDAR
