BEGIN:VCALENDAR
VERSION:2.0
PRODID:-//ChamberMaster//Event Calendar 2.0//EN
METHOD:PUBLISH
X-PUBLISHED-TTL:P3D
REFRESH-INTERVAL:P3D
CALSCALE:GREGORIAN
BEGIN:VEVENT
DTSTART:20071129T171500Z
DTEND:20071129T171500Z
X-MICROSOFT-CDO-ALLDAYEVENT:FALSE
SUMMARY:Children's Storytime - All Ages
DESCRIPTION:All ages storytime
X-ALT-DESC;FMTTYPE=text/html:All ages storytime
LOCATION:5000 Hwy. 73
UID:e.298.5904
SEQUENCE:3
DTSTAMP:20260421T132047Z
URL:https://members.evergreenchamber.org/events/details/children-s-storytime-all-ages-11-29-2007-5904
END:VEVENT

END:VCALENDAR
