BEGIN:VCALENDAR
VERSION:2.0
PRODID:-//ChamberMaster//Event Calendar 2.0//EN
METHOD:PUBLISH
X-PUBLISHED-TTL:P3D
REFRESH-INTERVAL:P3D
CALSCALE:GREGORIAN
BEGIN:VEVENT
DTSTART:20251115T170000Z
DTEND:20251115T200000Z
X-MICROSOFT-CDO-ALLDAYEVENT:FALSE
SUMMARY:Children's Business Fair
DESCRIPTION:Join young entrepreneurs as they market and sell their products at the third annual Children's Business Fair. What better way to start your holiday shopping than to shop small and shop local by supporting our Evergreen kids! For more information\, visit childrensbusinessfair.org/evergreen.
X-ALT-DESC;FMTTYPE=text/html:Join young entrepreneurs as they market and sell their products at the third annual Children&#39\;s Business Fair. What better way to start your holiday shopping than to shop small and shop local by supporting our Evergreen kids! For more information\, visit childrensbusinessfair.org/evergreen.
LOCATION:Bergen Park Church 31919 Rocky Village Drive
UID:e.298.103967
SEQUENCE:3
DTSTAMP:20260419T224908Z
URL:https://members.evergreenchamber.org/events/details/children-s-business-fair-103967
END:VEVENT

END:VCALENDAR
