BEGIN:VCALENDAR
VERSION:2.0
PRODID:-//ChamberMaster//Event Calendar 2.0//EN
METHOD:PUBLISH
X-PUBLISHED-TTL:P3D
REFRESH-INTERVAL:P3D
CALSCALE:GREGORIAN
BEGIN:VEVENT
DTSTART:20220908T230000Z
DTEND:20220909T010000Z
X-MICROSOFT-CDO-ALLDAYEVENT:FALSE
SUMMARY:Chamber Monthly Mixer - The Evergreen Gallery
DESCRIPTION:The Monthly "Business Unplugged" Mixer - Please join us for our monthly in person Happy Hour.\n\n\n\nChamber Monthly Mixer - The Evergreen Gallery
X-ALT-DESC;FMTTYPE=text/html:<strong><span style="font-size:12px\;"><span style="color: rgb(85\, 85\, 85)\; font-family: Raleway\, sans-serif\; background-color: rgba(255\, 255\, 255\, 0.5)\;">The Monthly &quot\;Business Unplugged&quot\; Mixer - Please join us for our monthly in person Happy Hour.</span></span><br />\n<br />\nChamber Monthly Mixer - The Evergreen Gallery</strong>
LOCATION:The Evergreen Gallery 28195 Hwy. 74 Evergreen\, CO 80439
UID:e.298.87836
SEQUENCE:3
DTSTAMP:20260424T054258Z
URL:https://members.evergreenchamber.org/events/details/chamber-monthly-mixer-the-evergreen-gallery-87836
END:VEVENT

END:VCALENDAR
