BEGIN:VCALENDAR
VERSION:2.0
PRODID:-//ChamberMaster//Event Calendar 2.0//EN
METHOD:PUBLISH
X-PUBLISHED-TTL:P3D
REFRESH-INTERVAL:P3D
CALSCALE:GREGORIAN
BEGIN:VEVENT
DTSTART:20221013T230000Z
DTEND:20221014T010000Z
X-MICROSOFT-CDO-ALLDAYEVENT:FALSE
SUMMARY:Chamber Monthly Mixer - Grounded Massage Plus and Robert & Associates\, LLC and many others
DESCRIPTION:Join us for a great Monthly Chamber Mixer with the following hosts:\n\n\n\nGrounded Massage Plus\n\nRobert & Associates\, LLC\n\nBW Mortgage LLC/Kate Higgins\n\nAnderson Insurance Agency\n\nCarol O'Brien Architecture\, LLC\n\nInspectrum Inspections\n\nLaw Office of Richard A. Levine\n\nSwim4Life\n\nLempke Communications\n\nWambolt & Associates
X-ALT-DESC;FMTTYPE=text/html:<strong>Join us for a great Monthly Chamber Mixer with the following hosts:<br />\n<br />\nGrounded Massage Plus<br />\nRobert &amp\; Associates\, LLC<br />\nBW Mortgage LLC/Kate Higgins<br />\nAnderson Insurance Agency<br />\nCarol O&#39\;Brien Architecture\, LLC<br />\nInspectrum Inspections<br />\nLaw Office of Richard A. Levine<br />\nSwim4Life<br />\nLempke Communications<br />\nWambolt &amp\; Associates</strong><br />\n&nbsp\;
LOCATION:31207 Keats Way\, Suite 104 Evergreen\, CO 80439 303.907.4829
UID:e.298.87837
SEQUENCE:3
DTSTAMP:20260424T042902Z
URL:https://members.evergreenchamber.org/events/details/chamber-monthly-mixer-grounded-massage-plus-and-robert-associates-llc-and-many-others-87837
END:VEVENT

END:VCALENDAR
