BEGIN:VCALENDAR
VERSION:2.0
PRODID:-//ChamberMaster//Event Calendar 2.0//EN
METHOD:PUBLISH
X-PUBLISHED-TTL:P3D
REFRESH-INTERVAL:P3D
CALSCALE:GREGORIAN
BEGIN:VEVENT
DTSTART:20221111T000000Z
DTEND:20221111T020000Z
X-MICROSOFT-CDO-ALLDAYEVENT:FALSE
SUMMARY:Chamber Monthly Mixer - Bear Paw Painters & Kahane Coaching
DESCRIPTION:Please join us for our casual social networking with Bear Paw Painters & Kahane Coaching.\n\nClue Mystery themed - costumes encouraged!
X-ALT-DESC;FMTTYPE=text/html:<span style="color: rgb(51\, 51\, 51)\; font-family: sans-serif\, Arial\, Verdana\, &quot\;Trebuchet MS&quot\;\; font-size: 13px\; background-color: rgb(255\, 255\, 255)\;">Please join us for our casual social networking with Bear Paw Painters &amp\; Kahane Coaching.<br />\nClue Mystery themed - costumes encouraged!</span>
LOCATION:Bear Paw Painters & Kahane Coaching 30792 Southview Dr.\, Suite 205 Evergreen\, CO
UID:e.298.87850
SEQUENCE:3
DTSTAMP:20260424T023439Z
URL:https://members.evergreenchamber.org/events/details/chamber-monthly-mixer-bear-paw-painters-kahane-coaching-87850
END:VEVENT

END:VCALENDAR
